BEGIN:VCALENDAR
VERSION:2.0
PRODID:-//Vries.nu - ECPv6.15.20//NONSGML v1.0//EN
CALSCALE:GREGORIAN
METHOD:PUBLISH
X-ORIGINAL-URL:https://nieuw.vries.nu
X-WR-CALDESC:Evenementen voor Vries.nu
REFRESH-INTERVAL;VALUE=DURATION:PT1H
X-Robots-Tag:noindex
X-PUBLISHED-TTL:PT1H
BEGIN:VTIMEZONE
TZID:Europe/Amsterdam
BEGIN:DAYLIGHT
TZOFFSETFROM:+0100
TZOFFSETTO:+0200
TZNAME:CEST
DTSTART:20240331T010000
END:DAYLIGHT
BEGIN:STANDARD
TZOFFSETFROM:+0200
TZOFFSETTO:+0100
TZNAME:CET
DTSTART:20241027T010000
END:STANDARD
BEGIN:DAYLIGHT
TZOFFSETFROM:+0100
TZOFFSETTO:+0200
TZNAME:CEST
DTSTART:20250330T010000
END:DAYLIGHT
BEGIN:STANDARD
TZOFFSETFROM:+0200
TZOFFSETTO:+0100
TZNAME:CET
DTSTART:20251026T010000
END:STANDARD
BEGIN:DAYLIGHT
TZOFFSETFROM:+0100
TZOFFSETTO:+0200
TZNAME:CEST
DTSTART:20260329T010000
END:DAYLIGHT
BEGIN:STANDARD
TZOFFSETFROM:+0200
TZOFFSETTO:+0100
TZNAME:CET
DTSTART:20261025T010000
END:STANDARD
END:VTIMEZONE
BEGIN:VEVENT
DTSTART;TZID=Europe/Amsterdam:20250705T140000
DTEND;TZID=Europe/Amsterdam:20250705T170000
DTSTAMP:20260421T181000
CREATED:20250606T120313Z
LAST-MODIFIED:20250702T154031Z
UID:116107-1751724000-1751734800@nieuw.vries.nu
SUMMARY:Oefenwedstrijd VAKO – FC Groningen
DESCRIPTION:Toegangsprijs volwassenen: € 12\,50\, Kinderen van 5 tot en met 12 jaar: € 5\,00 en kinderen onder de 5 jaar: gratis. Zie voor verkoopplaatsen en verdere informatie de site van VAKO Voetbal: https://www.vakovoetbal.nl/440/fcgroningen/ \n 
URL:https://nieuw.vries.nu/agendapunt/oefenwedstrijd-vako-fc-groningen/
LOCATION:Sportveld de Fielliettaz Goethart
END:VEVENT
END:VCALENDAR