BEGIN:VCALENDAR
VERSION:2.0
PRODID:-//Vries.nu - ECPv6.15.20//NONSGML v1.0//EN
CALSCALE:GREGORIAN
METHOD:PUBLISH
X-ORIGINAL-URL:https://nieuw.vries.nu
X-WR-CALDESC:Evenementen voor Vries.nu
REFRESH-INTERVAL;VALUE=DURATION:PT1H
X-Robots-Tag:noindex
X-PUBLISHED-TTL:PT1H
BEGIN:VTIMEZONE
TZID:Europe/Amsterdam
BEGIN:DAYLIGHT
TZOFFSETFROM:+0100
TZOFFSETTO:+0200
TZNAME:CEST
DTSTART:20240331T010000
END:DAYLIGHT
BEGIN:STANDARD
TZOFFSETFROM:+0200
TZOFFSETTO:+0100
TZNAME:CET
DTSTART:20241027T010000
END:STANDARD
BEGIN:DAYLIGHT
TZOFFSETFROM:+0100
TZOFFSETTO:+0200
TZNAME:CEST
DTSTART:20250330T010000
END:DAYLIGHT
BEGIN:STANDARD
TZOFFSETFROM:+0200
TZOFFSETTO:+0100
TZNAME:CET
DTSTART:20251026T010000
END:STANDARD
BEGIN:DAYLIGHT
TZOFFSETFROM:+0100
TZOFFSETTO:+0200
TZNAME:CEST
DTSTART:20260329T010000
END:DAYLIGHT
BEGIN:STANDARD
TZOFFSETFROM:+0200
TZOFFSETTO:+0100
TZNAME:CET
DTSTART:20261025T010000
END:STANDARD
END:VTIMEZONE
BEGIN:VEVENT
DTSTART;TZID=Europe/Amsterdam:20251004T113000
DTEND;TZID=Europe/Amsterdam:20251004T163000
DTSTAMP:20260421T175326
CREATED:20250924T184151Z
LAST-MODIFIED:20250924T184151Z
UID:117447-1759577400-1759595400@nieuw.vries.nu
SUMMARY:Open Dag Plaats de Wereld
DESCRIPTION:Zie ook het bericht op deze site.
URL:https://nieuw.vries.nu/agendapunt/open-dag-plaats-de-wereld/
LOCATION:Plaats De Wereld\, Westerstraat 26a (naast de brandweer)\, Vries\, 9481 CB\, Netherlands
CATEGORIES:Open dag
END:VEVENT
BEGIN:VEVENT
DTSTART;TZID=Europe/Amsterdam:20250927T133000
DTEND;TZID=Europe/Amsterdam:20250927T163000
DTSTAMP:20260421T175326
CREATED:20250924T185318Z
LAST-MODIFIED:20250924T185318Z
UID:117454-1758979800-1758990600@nieuw.vries.nu
SUMMARY:Open dag\, 'Naoberschapsdag'\, Kornoeljehof
DESCRIPTION:Met markt en rad van fortuin.
URL:https://nieuw.vries.nu/agendapunt/open-dag-naoberschapsdag-kornoeljehof/
LOCATION:Kornoeljeof
CATEGORIES:Open dag
END:VEVENT
END:VCALENDAR