BEGIN:VCALENDAR
VERSION:2.0
PRODID:-//Vries.nu - ECPv6.15.20//NONSGML v1.0//EN
CALSCALE:GREGORIAN
METHOD:PUBLISH
X-ORIGINAL-URL:https://nieuw.vries.nu
X-WR-CALDESC:Evenementen voor Vries.nu
REFRESH-INTERVAL;VALUE=DURATION:PT1H
X-Robots-Tag:noindex
X-PUBLISHED-TTL:PT1H
BEGIN:VTIMEZONE
TZID:Europe/Amsterdam
BEGIN:DAYLIGHT
TZOFFSETFROM:+0100
TZOFFSETTO:+0200
TZNAME:CEST
DTSTART:20240331T010000
END:DAYLIGHT
BEGIN:STANDARD
TZOFFSETFROM:+0200
TZOFFSETTO:+0100
TZNAME:CET
DTSTART:20241027T010000
END:STANDARD
BEGIN:DAYLIGHT
TZOFFSETFROM:+0100
TZOFFSETTO:+0200
TZNAME:CEST
DTSTART:20250330T010000
END:DAYLIGHT
BEGIN:STANDARD
TZOFFSETFROM:+0200
TZOFFSETTO:+0100
TZNAME:CET
DTSTART:20251026T010000
END:STANDARD
BEGIN:DAYLIGHT
TZOFFSETFROM:+0100
TZOFFSETTO:+0200
TZNAME:CEST
DTSTART:20260329T010000
END:DAYLIGHT
BEGIN:STANDARD
TZOFFSETFROM:+0200
TZOFFSETTO:+0100
TZNAME:CET
DTSTART:20261025T010000
END:STANDARD
END:VTIMEZONE
BEGIN:VEVENT
DTSTART;TZID=Europe/Amsterdam:20251124T090000
DTEND;TZID=Europe/Amsterdam:20251124T130000
DTSTAMP:20260421T182142
CREATED:20241202T102956Z
LAST-MODIFIED:20241202T102956Z
UID:111422-1763974800-1763989200@nieuw.vries.nu
SUMMARY:Steunpunt Instituut Mijnbouwschade Groningen in Vries
DESCRIPTION:Zie bericht!  \nDatum in bericht kan afwijken\, datum in deze agenda is correct!
URL:https://nieuw.vries.nu/agendapunt/steunpunt-instituut-mijnbouwschade-groningen-in-vries-2/
LOCATION:Grand Café Onder de Linden\, Brink 4\, Vries
CATEGORIES:Informatie bijeenkomst
END:VEVENT
BEGIN:VEVENT
DTSTART;TZID=Europe/Amsterdam:20251110T090000
DTEND;TZID=Europe/Amsterdam:20251110T130000
DTSTAMP:20260421T182142
CREATED:20241202T103614Z
LAST-MODIFIED:20241202T103614Z
UID:111421-1762765200-1762779600@nieuw.vries.nu
SUMMARY:Steunpunt Instituut Mijnbouwschade Groningen in Vries
DESCRIPTION:Zie bericht!  \nDatum in bericht kan afwijken\, datum in deze agenda is correct!
URL:https://nieuw.vries.nu/agendapunt/steunpunt-instituut-mijnbouwschade-groningen-in-vries-3/
LOCATION:Grand Café Onder de Linden\, Brink 4\, Vries
CATEGORIES:Informatie bijeenkomst
END:VEVENT
BEGIN:VEVENT
DTSTART;TZID=Europe/Amsterdam:20251027T090000
DTEND;TZID=Europe/Amsterdam:20251027T130000
DTSTAMP:20260421T182142
CREATED:20241202T103636Z
LAST-MODIFIED:20241202T103636Z
UID:111420-1761555600-1761570000@nieuw.vries.nu
SUMMARY:Steunpunt Instituut Mijnbouwschade Groningen in Vries
DESCRIPTION:Zie bericht!  \nDatum in bericht kan afwijken\, datum in deze agenda is correct!
URL:https://nieuw.vries.nu/agendapunt/steunpunt-instituut-mijnbouwschade-groningen-in-vries-4/
LOCATION:Grand Café Onder de Linden\, Brink 4\, Vries
CATEGORIES:Informatie bijeenkomst
END:VEVENT
BEGIN:VEVENT
DTSTART;TZID=Europe/Amsterdam:20251013T090000
DTEND;TZID=Europe/Amsterdam:20251013T130000
DTSTAMP:20260421T182142
CREATED:20241202T103745Z
LAST-MODIFIED:20241202T103745Z
UID:111419-1760346000-1760360400@nieuw.vries.nu
SUMMARY:Steunpunt Instituut Mijnbouwschade Groningen in Vries
DESCRIPTION:Zie bericht!  \nDatum in bericht kan afwijken\, datum in deze agenda is correct!
URL:https://nieuw.vries.nu/agendapunt/steunpunt-instituut-mijnbouwschade-groningen-in-vries-5/
LOCATION:Grand Café Onder de Linden\, Brink 4\, Vries
CATEGORIES:Informatie bijeenkomst
END:VEVENT
BEGIN:VEVENT
DTSTART;TZID=Europe/Amsterdam:20250929T090000
DTEND;TZID=Europe/Amsterdam:20250929T130000
DTSTAMP:20260421T182142
CREATED:20241202T103810Z
LAST-MODIFIED:20241202T103810Z
UID:111418-1759136400-1759150800@nieuw.vries.nu
SUMMARY:Steunpunt Instituut Mijnbouwschade Groningen in Vries
DESCRIPTION:Zie bericht!  \nDatum in bericht kan afwijken\, datum in deze agenda is correct!
URL:https://nieuw.vries.nu/agendapunt/steunpunt-instituut-mijnbouwschade-groningen-in-vries-6/
LOCATION:Grand Café Onder de Linden\, Brink 4\, Vries
CATEGORIES:Informatie bijeenkomst
END:VEVENT
BEGIN:VEVENT
DTSTART;TZID=Europe/Amsterdam:20250915T090000
DTEND;TZID=Europe/Amsterdam:20250915T130000
DTSTAMP:20260421T182142
CREATED:20241202T103844Z
LAST-MODIFIED:20241202T103844Z
UID:111417-1757926800-1757941200@nieuw.vries.nu
SUMMARY:Steunpunt Instituut Mijnbouwschade Groningen in Vries
DESCRIPTION:Zie bericht!  \nDatum in bericht kan afwijken\, datum in deze agenda is correct!
URL:https://nieuw.vries.nu/agendapunt/steunpunt-instituut-mijnbouwschade-groningen-in-vries-7/
LOCATION:Grand Café Onder de Linden\, Brink 4\, Vries
CATEGORIES:Informatie bijeenkomst
END:VEVENT
BEGIN:VEVENT
DTSTART;TZID=Europe/Amsterdam:20250901T090000
DTEND;TZID=Europe/Amsterdam:20250901T130000
DTSTAMP:20260421T182142
CREATED:20241202T103907Z
LAST-MODIFIED:20241202T103907Z
UID:111416-1756717200-1756731600@nieuw.vries.nu
SUMMARY:Steunpunt Instituut Mijnbouwschade Groningen in Vries
DESCRIPTION:Zie bericht!  \nDatum in bericht kan afwijken\, datum in deze agenda is correct!
URL:https://nieuw.vries.nu/agendapunt/steunpunt-instituut-mijnbouwschade-groningen-in-vries-8/
LOCATION:Grand Café Onder de Linden\, Brink 4\, Vries
CATEGORIES:Informatie bijeenkomst
END:VEVENT
BEGIN:VEVENT
DTSTART;TZID=Europe/Amsterdam:20250818T090000
DTEND;TZID=Europe/Amsterdam:20250818T130000
DTSTAMP:20260421T182142
CREATED:20241202T103929Z
LAST-MODIFIED:20241202T103929Z
UID:111415-1755507600-1755522000@nieuw.vries.nu
SUMMARY:Steunpunt Instituut Mijnbouwschade Groningen in Vries
DESCRIPTION:Zie bericht!  \nDatum in bericht kan afwijken\, datum in deze agenda is correct!
URL:https://nieuw.vries.nu/agendapunt/steunpunt-instituut-mijnbouwschade-groningen-in-vries-9/
LOCATION:Grand Café Onder de Linden\, Brink 4\, Vries
CATEGORIES:Informatie bijeenkomst
END:VEVENT
BEGIN:VEVENT
DTSTART;TZID=Europe/Amsterdam:20250804T090000
DTEND;TZID=Europe/Amsterdam:20250804T130000
DTSTAMP:20260421T182142
CREATED:20241202T103950Z
LAST-MODIFIED:20241202T103950Z
UID:111414-1754298000-1754312400@nieuw.vries.nu
SUMMARY:Steunpunt Instituut Mijnbouwschade Groningen in Vries
DESCRIPTION:Zie bericht!  \nDatum in bericht kan afwijken\, datum in deze agenda is correct!
URL:https://nieuw.vries.nu/agendapunt/steunpunt-instituut-mijnbouwschade-groningen-in-vries-10/
LOCATION:Grand Café Onder de Linden\, Brink 4\, Vries
CATEGORIES:Informatie bijeenkomst
END:VEVENT
BEGIN:VEVENT
DTSTART;TZID=Europe/Amsterdam:20250721T090000
DTEND;TZID=Europe/Amsterdam:20250721T130000
DTSTAMP:20260421T182142
CREATED:20241202T104020Z
LAST-MODIFIED:20241202T104020Z
UID:111413-1753088400-1753102800@nieuw.vries.nu
SUMMARY:Steunpunt Instituut Mijnbouwschade Groningen in Vries
DESCRIPTION:Zie bericht!  \nDatum in bericht kan afwijken\, datum in deze agenda is correct!
URL:https://nieuw.vries.nu/agendapunt/steunpunt-instituut-mijnbouwschade-groningen-in-vries-11/
LOCATION:Grand Café Onder de Linden\, Brink 4\, Vries
CATEGORIES:Informatie bijeenkomst
END:VEVENT
BEGIN:VEVENT
DTSTART;TZID=Europe/Amsterdam:20250707T090000
DTEND;TZID=Europe/Amsterdam:20250707T130000
DTSTAMP:20260421T182142
CREATED:20241202T104041Z
LAST-MODIFIED:20241202T104041Z
UID:111412-1751878800-1751893200@nieuw.vries.nu
SUMMARY:Steunpunt Instituut Mijnbouwschade Groningen in Vries
DESCRIPTION:Zie bericht!  \nDatum in bericht kan afwijken\, datum in deze agenda is correct!
URL:https://nieuw.vries.nu/agendapunt/steunpunt-instituut-mijnbouwschade-groningen-in-vries-12/
LOCATION:Grand Café Onder de Linden\, Brink 4\, Vries
CATEGORIES:Informatie bijeenkomst
END:VEVENT
BEGIN:VEVENT
DTSTART;TZID=Europe/Amsterdam:20250623T090000
DTEND;TZID=Europe/Amsterdam:20250623T130000
DTSTAMP:20260421T182142
CREATED:20241202T104102Z
LAST-MODIFIED:20241202T104102Z
UID:111411-1750669200-1750683600@nieuw.vries.nu
SUMMARY:Steunpunt Instituut Mijnbouwschade Groningen in Vries
DESCRIPTION:Zie bericht!  \nDatum in bericht kan afwijken\, datum in deze agenda is correct!
URL:https://nieuw.vries.nu/agendapunt/steunpunt-instituut-mijnbouwschade-groningen-in-vries-13/
LOCATION:Grand Café Onder de Linden\, Brink 4\, Vries
CATEGORIES:Informatie bijeenkomst
END:VEVENT
BEGIN:VEVENT
DTSTART;TZID=Europe/Amsterdam:20250609T090000
DTEND;TZID=Europe/Amsterdam:20250609T130000
DTSTAMP:20260421T182142
CREATED:20241202T104125Z
LAST-MODIFIED:20241202T104125Z
UID:111410-1749459600-1749474000@nieuw.vries.nu
SUMMARY:Steunpunt Instituut Mijnbouwschade Groningen in Vries
DESCRIPTION:Zie bericht!  \nDatum in bericht kan afwijken\, datum in deze agenda is correct!
URL:https://nieuw.vries.nu/agendapunt/steunpunt-instituut-mijnbouwschade-groningen-in-vries-14/
LOCATION:Grand Café Onder de Linden\, Brink 4\, Vries
CATEGORIES:Informatie bijeenkomst
END:VEVENT
BEGIN:VEVENT
DTSTART;TZID=Europe/Amsterdam:20250526T090000
DTEND;TZID=Europe/Amsterdam:20250526T130000
DTSTAMP:20260421T182142
CREATED:20241202T104148Z
LAST-MODIFIED:20241202T104148Z
UID:111409-1748250000-1748264400@nieuw.vries.nu
SUMMARY:Steunpunt Instituut Mijnbouwschade Groningen in Vries
DESCRIPTION:Zie bericht!  \nDatum in bericht kan afwijken\, datum in deze agenda is correct!
URL:https://nieuw.vries.nu/agendapunt/steunpunt-instituut-mijnbouwschade-groningen-in-vries-15/
LOCATION:Grand Café Onder de Linden\, Brink 4\, Vries
CATEGORIES:Informatie bijeenkomst
END:VEVENT
BEGIN:VEVENT
DTSTART;TZID=Europe/Amsterdam:20250512T090000
DTEND;TZID=Europe/Amsterdam:20250512T130000
DTSTAMP:20260421T182142
CREATED:20241202T104211Z
LAST-MODIFIED:20241202T104211Z
UID:111408-1747040400-1747054800@nieuw.vries.nu
SUMMARY:Steunpunt Instituut Mijnbouwschade Groningen in Vries
DESCRIPTION:Zie bericht!  \nDatum in bericht kan afwijken\, datum in deze agenda is correct!
URL:https://nieuw.vries.nu/agendapunt/steunpunt-instituut-mijnbouwschade-groningen-in-vries-16/
LOCATION:Grand Café Onder de Linden\, Brink 4\, Vries
CATEGORIES:Informatie bijeenkomst
END:VEVENT
BEGIN:VEVENT
DTSTART;TZID=Europe/Amsterdam:20250428T090000
DTEND;TZID=Europe/Amsterdam:20250428T090000
DTSTAMP:20260421T182142
CREATED:20241202T104232Z
LAST-MODIFIED:20250410T082417Z
UID:111407-1745830800-1745830800@nieuw.vries.nu
SUMMARY:Steunpunt Instituut Mijnbouwschade Groningen in Vries
DESCRIPTION:Voor meer informatie klik op deze regel! \nDatum in bericht kan afwijken\, datum in deze agenda is correct!
URL:https://nieuw.vries.nu/agendapunt/steunpunt-instituut-mijnbouwschade-groningen-in-vries-17/
LOCATION:Grand Café Onder de Linden\, Brink 4\, Vries
CATEGORIES:Informatie bijeenkomst
END:VEVENT
BEGIN:VEVENT
DTSTART;TZID=Europe/Amsterdam:20250414T090000
DTEND;TZID=Europe/Amsterdam:20250414T120000
DTSTAMP:20260421T182142
CREATED:20250405T115122Z
LAST-MODIFIED:20250407T110810Z
UID:114259-1744621200-1744632000@nieuw.vries.nu
SUMMARY:Steunpunt Instituut Mijnbouwschade Groningen in Vries
DESCRIPTION:Voor meer informatie klik op deze regel!
URL:https://nieuw.vries.nu/agendapunt/steunpunt-instituut-mijnbouwschade-groningen-in-vries-27/
LOCATION:Grand Café Onder de Linden\, Brink 4\, Vries
CATEGORIES:Informatie bijeenkomst
END:VEVENT
BEGIN:VEVENT
DTSTART;TZID=Europe/Amsterdam:20250331T090000
DTEND;TZID=Europe/Amsterdam:20250331T090000
DTSTAMP:20260421T182142
CREATED:20241202T104325Z
LAST-MODIFIED:20241202T104325Z
UID:111405-1743411600-1743411600@nieuw.vries.nu
SUMMARY:Steunpunt Instituut Mijnbouwschade Groningen in Vries
DESCRIPTION:Zie bericht!  \nDatum in bericht kan afwijken\, datum in deze agenda is correct!
URL:https://nieuw.vries.nu/agendapunt/steunpunt-instituut-mijnbouwschade-groningen-in-vries-19/
LOCATION:Grand Café Onder de Linden\, Brink 4\, Vries
CATEGORIES:Informatie bijeenkomst
END:VEVENT
BEGIN:VEVENT
DTSTART;TZID=Europe/Amsterdam:20250317T090000
DTEND;TZID=Europe/Amsterdam:20250317T090000
DTSTAMP:20260421T182142
CREATED:20241202T104344Z
LAST-MODIFIED:20241202T104344Z
UID:111404-1742202000-1742202000@nieuw.vries.nu
SUMMARY:Steunpunt Instituut Mijnbouwschade Groningen in Vries
DESCRIPTION:Zie bericht!  \nDatum in bericht kan afwijken\, datum in deze agenda is correct!
URL:https://nieuw.vries.nu/agendapunt/steunpunt-instituut-mijnbouwschade-groningen-in-vries-20/
LOCATION:Grand Café Onder de Linden\, Brink 4\, Vries
CATEGORIES:Informatie bijeenkomst
END:VEVENT
BEGIN:VEVENT
DTSTART;TZID=Europe/Amsterdam:20250303T090000
DTEND;TZID=Europe/Amsterdam:20250303T090000
DTSTAMP:20260421T182142
CREATED:20241202T104405Z
LAST-MODIFIED:20241202T104405Z
UID:111403-1740992400-1740992400@nieuw.vries.nu
SUMMARY:Steunpunt Instituut Mijnbouwschade Groningen in Vries
DESCRIPTION:Zie bericht!  \nDatum in bericht kan afwijken\, datum in deze agenda is correct!
URL:https://nieuw.vries.nu/agendapunt/steunpunt-instituut-mijnbouwschade-groningen-in-vries-21/
LOCATION:Grand Café Onder de Linden\, Brink 4\, Vries
CATEGORIES:Informatie bijeenkomst
END:VEVENT
END:VCALENDAR