BEGIN:VCALENDAR
VERSION:2.0
PRODID:-//Vries.nu - ECPv6.15.20//NONSGML v1.0//EN
CALSCALE:GREGORIAN
METHOD:PUBLISH
X-ORIGINAL-URL:https://nieuw.vries.nu
X-WR-CALDESC:Evenementen voor Vries.nu
REFRESH-INTERVAL;VALUE=DURATION:PT1H
X-Robots-Tag:noindex
X-PUBLISHED-TTL:PT1H
BEGIN:VTIMEZONE
TZID:Europe/Amsterdam
BEGIN:DAYLIGHT
TZOFFSETFROM:+0100
TZOFFSETTO:+0200
TZNAME:CEST
DTSTART:20240331T010000
END:DAYLIGHT
BEGIN:STANDARD
TZOFFSETFROM:+0200
TZOFFSETTO:+0100
TZNAME:CET
DTSTART:20241027T010000
END:STANDARD
BEGIN:DAYLIGHT
TZOFFSETFROM:+0100
TZOFFSETTO:+0200
TZNAME:CEST
DTSTART:20250330T010000
END:DAYLIGHT
BEGIN:STANDARD
TZOFFSETFROM:+0200
TZOFFSETTO:+0100
TZNAME:CET
DTSTART:20251026T010000
END:STANDARD
BEGIN:DAYLIGHT
TZOFFSETFROM:+0100
TZOFFSETTO:+0200
TZNAME:CEST
DTSTART:20260329T010000
END:DAYLIGHT
BEGIN:STANDARD
TZOFFSETFROM:+0200
TZOFFSETTO:+0100
TZNAME:CET
DTSTART:20261025T010000
END:STANDARD
END:VTIMEZONE
BEGIN:VEVENT
DTSTART;TZID=Europe/Amsterdam:20251028T193000
DTEND;TZID=Europe/Amsterdam:20251028T220000
DTSTAMP:20260421T175845
CREATED:20251027T133812Z
LAST-MODIFIED:20251027T133812Z
UID:117943-1761679800-1761688800@nieuw.vries.nu
SUMMARY:Presentatie concept-warmteplan De Fledders
DESCRIPTION:Zie bericht op deze site
URL:https://nieuw.vries.nu/agendapunt/presentatie-concept-warmteplan-de-fledders/
LOCATION:Grand Café Onder de Linden\, Brink 4\, Vries
CATEGORIES:Buurtparticipatie,Duurzaamheid,Informatie bijeenkomst
END:VEVENT
BEGIN:VEVENT
DTSTART;TZID=Europe/Amsterdam:20250412T110000
DTEND;TZID=Europe/Amsterdam:20250412T173000
DTSTAMP:20260421T175845
CREATED:20250408T100743Z
LAST-MODIFIED:20250408T100743Z
UID:114366-1744455600-1744479000@nieuw.vries.nu
SUMMARY:80 jaar Vrijheid\, Bevrijdingsmarathon
DESCRIPTION:Uitgangspunt was dat we hiervoor met muziekgroepen uit eigen gemeente (Tynaarlo) werken. Daarom hebben we alle muziekverenigingen in de hele gemeente Tynaarlo uitgenodigd. Inmiddels zijn er 19 aanmeldingen uit de vele genres die de muziek ons biedt. We beginnen om 11.00 uur en gaan door tot 17.30 uur. We sluiten het festival af met het gezamenlijk zingen van Alle Menschen werden Bruder\, het Europees Volkslied. Iedereen die wil meezingen is daartoe van harte uitgenodigd.
URL:https://nieuw.vries.nu/agendapunt/80-jaar-vrijheid-bevrijdingsmarathon/
LOCATION:Bonifatiuskerk en Café Onder de Linden
CATEGORIES:Concerten,Gedenken,Volksvermaken Vries
END:VEVENT
END:VCALENDAR