BEGIN:VCALENDAR
VERSION:2.0
PRODID:-//Vries.nu - ECPv6.15.20//NONSGML v1.0//EN
CALSCALE:GREGORIAN
METHOD:PUBLISH
X-WR-CALNAME:Vries.nu
X-ORIGINAL-URL:https://nieuw.vries.nu
X-WR-CALDESC:Evenementen voor Vries.nu
REFRESH-INTERVAL;VALUE=DURATION:PT1H
X-Robots-Tag:noindex
X-PUBLISHED-TTL:PT1H
BEGIN:VTIMEZONE
TZID:Europe/Amsterdam
BEGIN:DAYLIGHT
TZOFFSETFROM:+0100
TZOFFSETTO:+0200
TZNAME:CEST
DTSTART:20240331T010000
END:DAYLIGHT
BEGIN:STANDARD
TZOFFSETFROM:+0200
TZOFFSETTO:+0100
TZNAME:CET
DTSTART:20241027T010000
END:STANDARD
BEGIN:DAYLIGHT
TZOFFSETFROM:+0100
TZOFFSETTO:+0200
TZNAME:CEST
DTSTART:20250330T010000
END:DAYLIGHT
BEGIN:STANDARD
TZOFFSETFROM:+0200
TZOFFSETTO:+0100
TZNAME:CET
DTSTART:20251026T010000
END:STANDARD
BEGIN:DAYLIGHT
TZOFFSETFROM:+0100
TZOFFSETTO:+0200
TZNAME:CEST
DTSTART:20260329T010000
END:DAYLIGHT
BEGIN:STANDARD
TZOFFSETFROM:+0200
TZOFFSETTO:+0100
TZNAME:CET
DTSTART:20261025T010000
END:STANDARD
END:VTIMEZONE
BEGIN:VEVENT
DTSTART;TZID=Europe/Amsterdam:20250605T193000
DTEND;TZID=Europe/Amsterdam:20250605T210000
DTSTAMP:20260421T180852
CREATED:20250128T101757Z
LAST-MODIFIED:20250128T102710Z
UID:113204-1749151800-1749157200@nieuw.vries.nu
SUMMARY:Silent Reading in de Bonifatiuskerk
DESCRIPTION:Zie bericht.
URL:https://nieuw.vries.nu/agendapunt/silent-reading-in-de-bonifatiuskerk-5/
LOCATION:Bonifatiuskerk (dorpskerk)
CATEGORIES:Lezing,Workshop
END:VEVENT
BEGIN:VEVENT
DTSTART;TZID=Europe/Amsterdam:20250501T193000
DTEND;TZID=Europe/Amsterdam:20250501T210000
DTSTAMP:20260421T180852
CREATED:20250128T101612Z
LAST-MODIFIED:20250410T082702Z
UID:113202-1746127800-1746133200@nieuw.vries.nu
SUMMARY:Silent Reading in de Bonifatiuskerk
DESCRIPTION:Voor meer informatie klik op deze regel!
URL:https://nieuw.vries.nu/agendapunt/silent-reading-in-de-bonifatiuskerk-4/
LOCATION:Bonifatiuskerk (dorpskerk)
CATEGORIES:Lezing,Workshop
END:VEVENT
BEGIN:VEVENT
DTSTART;TZID=Europe/Amsterdam:20250403T193000
DTEND;TZID=Europe/Amsterdam:20250403T210000
DTSTAMP:20260421T180852
CREATED:20250128T101314Z
LAST-MODIFIED:20250128T102706Z
UID:113200-1743708600-1743714000@nieuw.vries.nu
SUMMARY:Silent Reading in de Bonifatiuskerk
DESCRIPTION:Zie bericht.
URL:https://nieuw.vries.nu/agendapunt/silent-reading-in-de-bonifatiuskerk-3/
LOCATION:Bonifatiuskerk (dorpskerk)
CATEGORIES:Lezing,Workshop
END:VEVENT
BEGIN:VEVENT
DTSTART;TZID=Europe/Amsterdam:20250306T193000
DTEND;TZID=Europe/Amsterdam:20250306T210000
DTSTAMP:20260421T180852
CREATED:20250128T101059Z
LAST-MODIFIED:20250128T101059Z
UID:113198-1741289400-1741294800@nieuw.vries.nu
SUMMARY:Silent Reading in de Bonifatiuskerk
DESCRIPTION:Zie bericht.
URL:https://nieuw.vries.nu/agendapunt/silent-reading-in-de-bonifatiuskerk-2/
LOCATION:Bonifatiuskerk (dorpskerk)
CATEGORIES:Lezing,Workshop
END:VEVENT
END:VCALENDAR