BEGIN:VCALENDAR
VERSION:2.0
PRODID:-//Vries.nu - ECPv6.15.20//NONSGML v1.0//EN
CALSCALE:GREGORIAN
METHOD:PUBLISH
X-ORIGINAL-URL:https://nieuw.vries.nu
X-WR-CALDESC:Evenementen voor Vries.nu
REFRESH-INTERVAL;VALUE=DURATION:PT1H
X-Robots-Tag:noindex
X-PUBLISHED-TTL:PT1H
BEGIN:VTIMEZONE
TZID:Europe/Amsterdam
BEGIN:DAYLIGHT
TZOFFSETFROM:+0100
TZOFFSETTO:+0200
TZNAME:CEST
DTSTART:20240331T010000
END:DAYLIGHT
BEGIN:STANDARD
TZOFFSETFROM:+0200
TZOFFSETTO:+0100
TZNAME:CET
DTSTART:20241027T010000
END:STANDARD
BEGIN:DAYLIGHT
TZOFFSETFROM:+0100
TZOFFSETTO:+0200
TZNAME:CEST
DTSTART:20250330T010000
END:DAYLIGHT
BEGIN:STANDARD
TZOFFSETFROM:+0200
TZOFFSETTO:+0100
TZNAME:CET
DTSTART:20251026T010000
END:STANDARD
BEGIN:DAYLIGHT
TZOFFSETFROM:+0100
TZOFFSETTO:+0200
TZNAME:CEST
DTSTART:20260329T010000
END:DAYLIGHT
BEGIN:STANDARD
TZOFFSETFROM:+0200
TZOFFSETTO:+0100
TZNAME:CET
DTSTART:20261025T010000
END:STANDARD
BEGIN:DAYLIGHT
TZOFFSETFROM:+0100
TZOFFSETTO:+0200
TZNAME:CEST
DTSTART:20270328T010000
END:DAYLIGHT
BEGIN:STANDARD
TZOFFSETFROM:+0200
TZOFFSETTO:+0100
TZNAME:CET
DTSTART:20271031T010000
END:STANDARD
END:VTIMEZONE
BEGIN:VEVENT
DTSTART;TZID=Europe/Amsterdam:20260121T143000
DTEND;TZID=Europe/Amsterdam:20260121T170000
DTSTAMP:20260421T181458
CREATED:20251102T174820Z
LAST-MODIFIED:20251102T174820Z
UID:118093-1769005800-1769014800@nieuw.vries.nu
SUMMARY:Avonturenclub voor kinderen van 7 - 12 jaar
DESCRIPTION:Zie ook het bericht op deze site
URL:https://nieuw.vries.nu/agendapunt/avonturenclub-voor-kinderen-van-7-12-jaar-3/
CATEGORIES:Kinderen,Plaats de Wereld
END:VEVENT
BEGIN:VEVENT
DTSTART;TZID=Europe/Amsterdam:20251217T143000
DTEND;TZID=Europe/Amsterdam:20251217T170000
DTSTAMP:20260421T181458
CREATED:20251102T174550Z
LAST-MODIFIED:20251102T174550Z
UID:118091-1765981800-1765990800@nieuw.vries.nu
SUMMARY:Avonturenclub voor kinderen van 7 - 12 jaar
DESCRIPTION:Zie ook het bericht op deze site.
URL:https://nieuw.vries.nu/agendapunt/avonturenclub-voor-kinderen-van-7-12-jaar-2/
LOCATION:Plaats De Wereld\, Westerstraat 26a (naast de brandweer)\, Vries\, 9481 CB\, Netherlands
CATEGORIES:Plaats de Wereld
ORGANIZER;CN="Plaats de Wereld":MAILTO:info@plaatsdewereld.nl
END:VEVENT
BEGIN:VEVENT
DTSTART;TZID=Europe/Amsterdam:20251119T143000
DTEND;TZID=Europe/Amsterdam:20251119T170000
DTSTAMP:20260421T181458
CREATED:20251102T174126Z
LAST-MODIFIED:20251102T174126Z
UID:118089-1763562600-1763571600@nieuw.vries.nu
SUMMARY:Avonturenclub voor kinderen van 7-12 jaar
DESCRIPTION:Zie ook het bericht op deze site.
URL:https://nieuw.vries.nu/agendapunt/avonturenclub-voor-kinderen-van-7-12-jaar/
LOCATION:Plaats De Wereld\, Westerstraat 26a (naast de brandweer)\, Vries\, 9481 CB\, Netherlands
ORGANIZER;CN="Plaats de Wereld":MAILTO:info@plaatsdewereld.nl
END:VEVENT
BEGIN:VEVENT
DTSTART;TZID=Europe/Amsterdam:20251022T143000
DTEND;TZID=Europe/Amsterdam:20251022T170000
DTSTAMP:20260421T181458
CREATED:20250926T182929Z
LAST-MODIFIED:20250926T182943Z
UID:117502-1761143400-1761152400@nieuw.vries.nu
SUMMARY:Kennismakingsworkshop Avonturenclub voor kinderen van 7 - 12 jaar
DESCRIPTION:Zie ook het bericht op deze site.
URL:https://nieuw.vries.nu/agendapunt/kennismakingsworkshop-avonturenclub-voor-kinderen-van-7-12-jaar-2/
LOCATION:Plaats De Wereld\, Westerstraat 26a (naast de brandweer)\, Vries\, 9481 CB\, Netherlands
CATEGORIES:Workshop
ORGANIZER;CN="Plaats de Wereld":MAILTO:info@plaatsdewereld.nl
END:VEVENT
BEGIN:VEVENT
DTSTART;TZID=Europe/Amsterdam:20251020T143000
DTEND;TZID=Europe/Amsterdam:20251020T170000
DTSTAMP:20260421T181458
CREATED:20250926T182629Z
LAST-MODIFIED:20250926T182629Z
UID:117498-1760970600-1760979600@nieuw.vries.nu
SUMMARY:Kennismakingsworkshop Avonturenclub voor kinderen van 7 - 12 jaar
DESCRIPTION:Zie ook het bericht op deze site.
URL:https://nieuw.vries.nu/agendapunt/kennismakingsworkshop-avonturenclub-voor-kinderen-van-7-12-jaar/
LOCATION:Plaats De Wereld\, Westerstraat 26a (naast de brandweer)\, Vries\, 9481 CB\, Netherlands
CATEGORIES:Workshop
ORGANIZER;CN="Plaats de Wereld":MAILTO:info@plaatsdewereld.nl
END:VEVENT
END:VCALENDAR