BEGIN:VCALENDAR
VERSION:2.0
PRODID:-//Vries.nu - ECPv6.15.20//NONSGML v1.0//EN
CALSCALE:GREGORIAN
METHOD:PUBLISH
X-WR-CALNAME:Vries.nu
X-ORIGINAL-URL:https://nieuw.vries.nu
X-WR-CALDESC:Evenementen voor Vries.nu
REFRESH-INTERVAL;VALUE=DURATION:PT1H
X-Robots-Tag:noindex
X-PUBLISHED-TTL:PT1H
BEGIN:VTIMEZONE
TZID:Europe/Amsterdam
BEGIN:DAYLIGHT
TZOFFSETFROM:+0100
TZOFFSETTO:+0200
TZNAME:CEST
DTSTART:20240331T010000
END:DAYLIGHT
BEGIN:STANDARD
TZOFFSETFROM:+0200
TZOFFSETTO:+0100
TZNAME:CET
DTSTART:20241027T010000
END:STANDARD
BEGIN:DAYLIGHT
TZOFFSETFROM:+0100
TZOFFSETTO:+0200
TZNAME:CEST
DTSTART:20250330T010000
END:DAYLIGHT
BEGIN:STANDARD
TZOFFSETFROM:+0200
TZOFFSETTO:+0100
TZNAME:CET
DTSTART:20251026T010000
END:STANDARD
BEGIN:DAYLIGHT
TZOFFSETFROM:+0100
TZOFFSETTO:+0200
TZNAME:CEST
DTSTART:20260329T010000
END:DAYLIGHT
BEGIN:STANDARD
TZOFFSETFROM:+0200
TZOFFSETTO:+0100
TZNAME:CET
DTSTART:20261025T010000
END:STANDARD
END:VTIMEZONE
BEGIN:VEVENT
DTSTART;TZID=Europe/Amsterdam:20251025T200000
DTEND;TZID=Europe/Amsterdam:20251025T220000
DTSTAMP:20260421T194920
CREATED:20251016T145802Z
LAST-MODIFIED:20251016T145802Z
UID:117822-1761422400-1761429600@nieuw.vries.nu
SUMMARY:Toneel uitvoering Spotlight uit Zeijen
DESCRIPTION:Zie bericht!
URL:https://nieuw.vries.nu/agendapunt/toneel-uitvoering-spotlight-uit-zeijen-2/
LOCATION:Café Hingstman in Zeijen
CATEGORIES:Toneel,Zeijen
END:VEVENT
BEGIN:VEVENT
DTSTART;TZID=Europe/Amsterdam:20251024T200000
DTEND;TZID=Europe/Amsterdam:20251024T220000
DTSTAMP:20260421T194920
CREATED:20251016T145629Z
LAST-MODIFIED:20251016T145629Z
UID:117820-1761336000-1761343200@nieuw.vries.nu
SUMMARY:Toneel uitvoering Spotlight uit Zeijen
DESCRIPTION:Zie bericht!
URL:https://nieuw.vries.nu/agendapunt/toneel-uitvoering-spotlight-uit-zeijen/
LOCATION:Café Hingstman in Zeijen
CATEGORIES:Toneel,Zeijen
END:VEVENT
END:VCALENDAR