BEGIN:VCALENDAR
VERSION:2.0
PRODID:-//Vries.nu - ECPv6.15.20//NONSGML v1.0//EN
CALSCALE:GREGORIAN
METHOD:PUBLISH
X-WR-CALNAME:Vries.nu
X-ORIGINAL-URL:https://nieuw.vries.nu
X-WR-CALDESC:Evenementen voor Vries.nu
REFRESH-INTERVAL;VALUE=DURATION:PT1H
X-Robots-Tag:noindex
X-PUBLISHED-TTL:PT1H
BEGIN:VTIMEZONE
TZID:Europe/Amsterdam
BEGIN:DAYLIGHT
TZOFFSETFROM:+0100
TZOFFSETTO:+0200
TZNAME:CEST
DTSTART:20240331T010000
END:DAYLIGHT
BEGIN:STANDARD
TZOFFSETFROM:+0200
TZOFFSETTO:+0100
TZNAME:CET
DTSTART:20241027T010000
END:STANDARD
BEGIN:DAYLIGHT
TZOFFSETFROM:+0100
TZOFFSETTO:+0200
TZNAME:CEST
DTSTART:20250330T010000
END:DAYLIGHT
BEGIN:STANDARD
TZOFFSETFROM:+0200
TZOFFSETTO:+0100
TZNAME:CET
DTSTART:20251026T010000
END:STANDARD
BEGIN:DAYLIGHT
TZOFFSETFROM:+0100
TZOFFSETTO:+0200
TZNAME:CEST
DTSTART:20260329T010000
END:DAYLIGHT
BEGIN:STANDARD
TZOFFSETFROM:+0200
TZOFFSETTO:+0100
TZNAME:CET
DTSTART:20261025T010000
END:STANDARD
END:VTIMEZONE
BEGIN:VEVENT
DTSTART;TZID=Europe/Amsterdam:20250817T120000
DTEND;TZID=Europe/Amsterdam:20250817T150000
DTSTAMP:20260421T180856
CREATED:20250812T104938Z
LAST-MODIFIED:20250812T172328Z
UID:116828-1755432000-1755442800@nieuw.vries.nu
SUMMARY:Wandelen op de Dag van het Hunebed
DESCRIPTION:Zie voor alle details het bericht op Vries.nu.
URL:https://nieuw.vries.nu/agendapunt/wandelen-op-de-dag-van-het-hunebed/
LOCATION:Tynaarlo\, Hunebed D6
CATEGORIES:Excursie,Wandelen
END:VEVENT
BEGIN:VEVENT
DTSTART;TZID=Europe/Amsterdam:20250529T060000
DTEND;TZID=Europe/Amsterdam:20250529T093000
DTSTAMP:20260421T180856
CREATED:20250520T134015Z
LAST-MODIFIED:20250520T134015Z
UID:115900-1748498400-1748511000@nieuw.vries.nu
SUMMARY:Dauwtrappen langs de Drentsche Aa
DESCRIPTION:Zie ook het bericht op Vries.nu
URL:https://nieuw.vries.nu/agendapunt/dauwtrappen-langs-de-drentsche-aa/
LOCATION:Café Restaurant De Drentsche Aa
CATEGORIES:Wandelen
END:VEVENT
BEGIN:VEVENT
DTSTART;TZID=Europe/Amsterdam:20250523T190000
DTEND;TZID=Europe/Amsterdam:20250523T200000
DTSTAMP:20260421T180856
CREATED:20250328T103855Z
LAST-MODIFIED:20250328T103855Z
UID:114166-1748026800-1748030400@nieuw.vries.nu
SUMMARY:Tocht door de geschiedenis van Vries
DESCRIPTION:Zie bericht!
URL:https://nieuw.vries.nu/agendapunt/tocht-door-de-geschiedenis-van-vries/
LOCATION:Het Ontmoetingshuis\, Oude Rijksweg 2\, Vries
CATEGORIES:Excursie,Wandelen
END:VEVENT
BEGIN:VEVENT
DTSTART;TZID=Europe/Amsterdam:20250419T100000
DTEND;TZID=Europe/Amsterdam:20250419T130000
DTSTAMP:20260421T180856
CREATED:20250407T165557Z
LAST-MODIFIED:20250410T081429Z
UID:114359-1745056800-1745067600@nieuw.vries.nu
SUMMARY:Dwaal mee over het stille Balloërveld
DESCRIPTION:Voor meer informatie klik op deze regel!
URL:https://nieuw.vries.nu/agendapunt/dwaal-mee-over-het-stille-balloerveld/
LOCATION:Balloërveld\, schaapskooi\, Crabbeweg 2\, Balloo
CATEGORIES:Excursie,Wandelen
END:VEVENT
BEGIN:VEVENT
DTSTART;TZID=Europe/Amsterdam:20250412T133000
DTEND;TZID=Europe/Amsterdam:20250412T153000
DTSTAMP:20260421T180856
CREATED:20250225T130259Z
LAST-MODIFIED:20250407T111845Z
UID:113588-1744464600-1744471800@nieuw.vries.nu
SUMMARY:Palmpasen optocht
DESCRIPTION:Voor meer informatie klik op deze regel!
URL:https://nieuw.vries.nu/agendapunt/palmpasen-optocht/
LOCATION:Bonifatiuskerk (dorpskerk)
CATEGORIES:Gedenken,Kinderen,Wandelen
END:VEVENT
BEGIN:VEVENT
DTSTART;TZID=Europe/Amsterdam:20250405T080000
DTEND;TZID=Europe/Amsterdam:20250405T170000
DTSTAMP:20260421T180856
CREATED:20250310T161511Z
LAST-MODIFIED:20250311T100136Z
UID:113880-1743840000-1743872400@nieuw.vries.nu
SUMMARY:Wandeldag SV Tynaarlo
DESCRIPTION:Zie bericht!
URL:https://nieuw.vries.nu/agendapunt/wandeldag-sv-tynaarlo/
CATEGORIES:Wandelen
END:VEVENT
END:VCALENDAR