BEGIN:VCALENDAR
VERSION:2.0
PRODID:-//Vries.nu - ECPv6.15.20//NONSGML v1.0//EN
CALSCALE:GREGORIAN
METHOD:PUBLISH
X-ORIGINAL-URL:https://nieuw.vries.nu
X-WR-CALDESC:Evenementen voor Vries.nu
REFRESH-INTERVAL;VALUE=DURATION:PT1H
X-Robots-Tag:noindex
X-PUBLISHED-TTL:PT1H
BEGIN:VTIMEZONE
TZID:Europe/Amsterdam
BEGIN:DAYLIGHT
TZOFFSETFROM:+0100
TZOFFSETTO:+0200
TZNAME:CEST
DTSTART:20240331T010000
END:DAYLIGHT
BEGIN:STANDARD
TZOFFSETFROM:+0200
TZOFFSETTO:+0100
TZNAME:CET
DTSTART:20241027T010000
END:STANDARD
BEGIN:DAYLIGHT
TZOFFSETFROM:+0100
TZOFFSETTO:+0200
TZNAME:CEST
DTSTART:20250330T010000
END:DAYLIGHT
BEGIN:STANDARD
TZOFFSETFROM:+0200
TZOFFSETTO:+0100
TZNAME:CET
DTSTART:20251026T010000
END:STANDARD
BEGIN:DAYLIGHT
TZOFFSETFROM:+0100
TZOFFSETTO:+0200
TZNAME:CEST
DTSTART:20260329T010000
END:DAYLIGHT
BEGIN:STANDARD
TZOFFSETFROM:+0200
TZOFFSETTO:+0100
TZNAME:CET
DTSTART:20261025T010000
END:STANDARD
BEGIN:DAYLIGHT
TZOFFSETFROM:+0100
TZOFFSETTO:+0200
TZNAME:CEST
DTSTART:20270328T010000
END:DAYLIGHT
BEGIN:STANDARD
TZOFFSETFROM:+0200
TZOFFSETTO:+0100
TZNAME:CET
DTSTART:20271031T010000
END:STANDARD
END:VTIMEZONE
BEGIN:VEVENT
DTSTART;TZID=Europe/Amsterdam:20260116T200000
DTEND;TZID=Europe/Amsterdam:20260116T223000
DTSTAMP:20260421T181458
CREATED:20250225T125755Z
LAST-MODIFIED:20250729T135940Z
UID:113586-1768593600-1768602600@nieuw.vries.nu
SUMMARY:Volksvermaken: Pubquiz
DESCRIPTION:Pubquiz een nieuwe aflevering van de populaire pubquiz. geef je via de pubquiz pagina op klik hier!
URL:https://nieuw.vries.nu/agendapunt/volksvermaken-pubquiz-3/
LOCATION:Grand Café Onder de Linden\, Brink 4\, Vries
CATEGORIES:Volksvermaken Vries
END:VEVENT
BEGIN:VEVENT
DTSTART;TZID=Europe/Amsterdam:20251213T200000
DTEND;TZID=Europe/Amsterdam:20251213T233000
DTSTAMP:20260421T181458
CREATED:20250225T143205Z
LAST-MODIFIED:20250225T143311Z
UID:113634-1765656000-1765668600@nieuw.vries.nu
SUMMARY:Vries Draait Door
DESCRIPTION:Een Muzikale Avond van en voor de Gemeenschap! \nDatum: 13 december\nTijd: 20:00 uur\nLocatie: Café Onder de Linden\, Vries\nEntree: €7\,50 \nZodra de ‘line up’ bekend is volgt de nadere informatie: Klik hier! 
URL:https://nieuw.vries.nu/agendapunt/vries-draait-door/
LOCATION:Grand Café Onder de Linden\, Brink 4\, Vries
CATEGORIES:Concerten,Dansen,Volksvermaken Vries
END:VEVENT
BEGIN:VEVENT
DTSTART;TZID=Europe/Amsterdam:20251212T140000
DTEND;TZID=Europe/Amsterdam:20251212T170000
DTSTAMP:20260421T181458
CREATED:20240205T150222Z
LAST-MODIFIED:20251122T123512Z
UID:97657-1765548000-1765558800@nieuw.vries.nu
SUMMARY:Volksvermaken: gezellige Drentse middag
DESCRIPTION:Op 12 december ben je van harte welkom op onze gezellige Drentse middag in Grand Café Onder de Linden. Niet-leden betalen €5\, leden hebben gratis toegang. koffie. Mis deze fijne middag niet!
URL:https://nieuw.vries.nu/agendapunt/volksvermaken-gezellige-seniorenmiddag-2/
LOCATION:Grand Café Onder de Linden\, Brink 4\, Vries
CATEGORIES:Volksvermaken Vries
END:VEVENT
BEGIN:VEVENT
DTSTART;TZID=Europe/Amsterdam:20251207T080000
DTEND;TZID=Europe/Amsterdam:20251207T170000
DTSTAMP:20260421T181458
CREATED:20250225T111236Z
LAST-MODIFIED:20250301T155321Z
UID:113576-1765094400-1765126800@nieuw.vries.nu
SUMMARY:Volksvermaken: klootschieten
DESCRIPTION:Zie bericht!
URL:https://nieuw.vries.nu/agendapunt/volksvermaken-klootschieten-8/
LOCATION:Grand Café Onder de Linden\, Brink 4\, Vries
CATEGORIES:Klootschieten,Volksvermaken Vries
END:VEVENT
BEGIN:VEVENT
DTSTART;TZID=Europe/Amsterdam:20251115T140000
DTEND;TZID=Europe/Amsterdam:20251115T160000
DTSTAMP:20260421T181458
CREATED:20240205T150130Z
LAST-MODIFIED:20250225T142011Z
UID:97655-1763215200-1763222400@nieuw.vries.nu
SUMMARY:Volksvermaken: intocht Sinterklaas
DESCRIPTION:De jaarlijkse intocht van Sinterklaas vindt plaats op 15 november Sint komt met de boot aan om 14:00 uur in de haven bij de Vriezerbrug . Kom samen met je familie en vrienden om Sinterklaas en zijn Pieten feestelijk te verwelkomen. Vervolgens gaat Sint onder begeleiding van de Harmonie Vries naar het dorp richting Grand Café Onder de Linden voor een ‘meet and greet’ met de kinderen. Mis deze gezellige en magische middag niet!
URL:https://nieuw.vries.nu/agendapunt/volksvermaken-intocht-sinterklaas/
LOCATION:Haven Vriezerbrug\, Tynaarlosestraat 59-57 Vries\, Vries\, 9481 AB
CATEGORIES:Volksvermaken Vries
END:VEVENT
BEGIN:VEVENT
DTSTART;TZID=Europe/Amsterdam:20251114T220000
DTEND;TZID=Europe/Amsterdam:20251114T223000
DTSTAMP:20260421T181458
CREATED:20250225T125626Z
LAST-MODIFIED:20250225T125626Z
UID:113584-1763157600-1763159400@nieuw.vries.nu
SUMMARY:Volksvermaken: Pubquiz
DESCRIPTION:Pubquiz een nieuwe aflevering van de populaire pubquiz. geef je via de pubquiz pagina op klik hier!
URL:https://nieuw.vries.nu/agendapunt/volksvermaken-pubquiz/
LOCATION:Grand Café Onder de Linden\, Brink 4\, Vries
CATEGORIES:Volksvermaken Vries
END:VEVENT
BEGIN:VEVENT
DTSTART;TZID=Europe/Amsterdam:20251110T183000
DTEND;TZID=Europe/Amsterdam:20251110T193000
DTSTAMP:20260421T181458
CREATED:20240205T150031Z
LAST-MODIFIED:20250922T175704Z
UID:97653-1762799400-1762803000@nieuw.vries.nu
SUMMARY:Volksvermaken: Lampionnenoptocht
DESCRIPTION:Op 10 november kunnen alle kinderen hun prachtige lampionnen laten zien tijdens de lampionnenoptocht\, begeleid door Harmonie Vries. De tocht start om 18:30 uur op de Brink in Vries. Na afloop is er voor alle kinderen iets lekkers. Dit evenement is ter voorbereiding op Sint-Maarten op 11 november. Mis het niet en kom genieten van de sfeervolle avond!
URL:https://nieuw.vries.nu/agendapunt/volksvermaken-lampionnenoptocht-2/
LOCATION:Op de Brink
CATEGORIES:Kinderen,Volksvermaken Vries
END:VEVENT
BEGIN:VEVENT
DTSTART;TZID=Europe/Amsterdam:20251102T093000
DTEND;TZID=Europe/Amsterdam:20251102T120000
DTSTAMP:20260421T181458
CREATED:20250225T110918Z
LAST-MODIFIED:20250301T155442Z
UID:113574-1762075800-1762084800@nieuw.vries.nu
SUMMARY:Volksvermaken: klootschieten
DESCRIPTION:Zie bericht!
URL:https://nieuw.vries.nu/agendapunt/volksvermaken-klootschieten-3/
LOCATION:Café-biljart-zalencentrum “Onder de Linden”\, Brink 4\, Vries\, 9481 BE
CATEGORIES:Klootschieten,Volksvermaken Vries
END:VEVENT
BEGIN:VEVENT
DTSTART;TZID=Europe/Amsterdam:20251024T200000
DTEND;TZID=Europe/Amsterdam:20251024T220000
DTSTAMP:20260421T181458
CREATED:20240205T190230Z
LAST-MODIFIED:20250225T141341Z
UID:104819-1761336000-1761343200@nieuw.vries.nu
SUMMARY:Feestelijke prijsuitreiking Vriezer Dorpsquiz
DESCRIPTION:Op 24 oktober vindt de feestelijke prijsuitreiking van de Vriezer Dorpsquiz plaats in Grand Café Onder de Linden. De quiz\, die op 4 oktober werd gehouden\, heeft de jury flink aan het werk gezet. Nu wordt de winnaar eindelijk bekendgemaakt. Mis deze spannende avond niet en vier mee met de winnaars!
URL:https://nieuw.vries.nu/agendapunt/feestelijke-prijsuitreiking-vriezer-dorpsquiz/
LOCATION:Grand Café Onder de Linden\, Brink 4\, Vries
CATEGORIES:Volksvermaken Vries
END:VEVENT
BEGIN:VEVENT
DTSTART;TZID=Europe/Amsterdam:20251005T093000
DTEND;TZID=Europe/Amsterdam:20251005T110000
DTSTAMP:20260421T181458
CREATED:20240205T104435Z
LAST-MODIFIED:20250301T160029Z
UID:97506-1759656600-1759662000@nieuw.vries.nu
SUMMARY:Volksvermaken: klootschieten
DESCRIPTION:Zie bericht!
URL:https://nieuw.vries.nu/agendapunt/volksvermaken-klootschieten-2/
LOCATION:Café Zalencentrum ‘Onder de Linden’\, Brink 4\, Vries
CATEGORIES:Volksvermaken Vries
END:VEVENT
BEGIN:VEVENT
DTSTART;TZID=Europe/Amsterdam:20251004T190000
DTEND;TZID=Europe/Amsterdam:20251004T230000
DTSTAMP:20260421T181458
CREATED:20240205T190104Z
LAST-MODIFIED:20250225T141156Z
UID:104817-1759604400-1759618800@nieuw.vries.nu
SUMMARY:Vriezer Dorpsquiz
DESCRIPTION:Dorpsquiz met Volksvermaken Vries – Een Avond Vol Hersenkrakers en Doe-opdrachten! \nEen Dorpsquiz bestaat uit hersenkrakers\, (maffe) doe-opdrachten\, vragen over het dorp en algemene vragenrondes. Het is dus aan te raden om verschillende ‘specialisten’ in je team aanwezig te hebben. \nDatum: 4 oktober\nStarttijd: 19:00 uur\nLocatie: Vries \nOp 5 oktober beginnen we om 18.45 uur bij Café Onder de Linden\, waar de teamcaptains het quizboekje ophalen (ze mogen pas om exact 19.00 uur met het boekje vertrekken). Om 23.00 uur moeten de antwoorden daar weer worden ingeleverd. Het beantwoorden van de vragen doe je dus in huiselijke kring. Opzoeken mag\, maar de organisatie heeft geprobeerd dit zoveel mogelijk te bemoeilijken ;). De uitslag volgt op vrijdag 24 oktober\, en meer informatie over de precieze invulling van deze avond volgt op een later moment. Volksvermaken Vries adviseert een teamgrootte van 10-15 personen\, maar (iets) meer of minder kan natuurlijk ook. \nDoe mee met een team van vrienden\, buurtgenoten\, collega’s\, leden van een vereniging\, familie\, of elke andere samenstelling die je kunt bedenken. De aanmelding is inmiddels gesloten. We kijken uit naar een avond vol gezelligheid\, uitdagingen en natuurlijk\, de ontknoping van de Dorpsquiz! \nOpgeven klik hier!
URL:https://nieuw.vries.nu/agendapunt/vriezer-dorpsquiz/
LOCATION:in en om Vries
CATEGORIES:Volksvermaken Vries
END:VEVENT
BEGIN:VEVENT
DTSTART;TZID=Europe/Amsterdam:20250920T193000
DTEND;TZID=Europe/Amsterdam:20250920T230000
DTSTAMP:20260421T181458
CREATED:20250225T140624Z
LAST-MODIFIED:20250301T162029Z
UID:113620-1758396600-1758409200@nieuw.vries.nu
SUMMARY:Tweiduuster Festival
DESCRIPTION:Zie bericht!
URL:https://nieuw.vries.nu/agendapunt/tweiduuster-festival/
LOCATION:in en rond de Bonifatiuskerk
CATEGORIES:Concerten,Volksvermaken Vries
END:VEVENT
BEGIN:VEVENT
DTSTART;TZID=Europe/Amsterdam:20250912T200000
DTEND;TZID=Europe/Amsterdam:20250912T223000
DTSTAMP:20260421T181458
CREATED:20230213T152029Z
LAST-MODIFIED:20250225T125347Z
UID:97518-1757707200-1757716200@nieuw.vries.nu
SUMMARY:Volksvermaken: Pubquiz
DESCRIPTION:Pubquiz een nieuwe aflevering van de populaire pubquiz. geef je via de pubquiz pagina op klik hier!
URL:https://nieuw.vries.nu/agendapunt/volksvermaken-pubquiz-5/
LOCATION:Grand Café Onder de Linden\, Brink 4\, Vries
CATEGORIES:Volksvermaken Vries
END:VEVENT
BEGIN:VEVENT
DTSTART;TZID=Europe/Amsterdam:20250907T093000
DTEND;TZID=Europe/Amsterdam:20250907T110000
DTSTAMP:20260421T181458
CREATED:20240205T104506Z
LAST-MODIFIED:20250301T155936Z
UID:97509-1757237400-1757242800@nieuw.vries.nu
SUMMARY:Volksvermaken: klootschieten
DESCRIPTION:Zie bericht!
URL:https://nieuw.vries.nu/agendapunt/volksvermaken-klootschieten/
LOCATION:Café Onder de Linden
CATEGORIES:Volksvermaken Vries
END:VEVENT
BEGIN:VEVENT
DTSTART;TZID=Europe/Amsterdam:20250830T160000
DTEND;TZID=Europe/Amsterdam:20250830T203000
DTSTAMP:20260421T181458
CREATED:20250225T133530Z
LAST-MODIFIED:20250513T063757Z
UID:113606-1756569600-1756585800@nieuw.vries.nu
SUMMARY:Volksvermaken: Ter land\, ter zee en in de Lucht - Step 'm erin
DESCRIPTION:Voor meer info: Klik hier!
URL:https://nieuw.vries.nu/agendapunt/ter-land-ter-zee-en-in-de-lucht/
LOCATION:in en om Vries
CATEGORIES:Volksvermaken Vries
END:VEVENT
BEGIN:VEVENT
DTSTART;TZID=Europe/Amsterdam:20250830T140000
DTEND;TZID=Europe/Amsterdam:20250830T235900
DTSTAMP:20260421T181458
CREATED:20250729T160700Z
LAST-MODIFIED:20250729T160700Z
UID:116723-1756562400-1756598340@nieuw.vries.nu
SUMMARY:Summer Instuif bij IJsclub Oal Gloep
DESCRIPTION:Zie ook het bericht op Vries.nu
URL:https://nieuw.vries.nu/agendapunt/summer-instuif-bij-ijsclub-oal-gloep/
LOCATION:IJsclub Aol Gloep\, Sportlaan 8\, Vries
CATEGORIES:Volksvermaken Vries
END:VEVENT
BEGIN:VEVENT
DTSTART;TZID=Europe/Amsterdam:20250822T100000
DTEND;TZID=Europe/Amsterdam:20250822T180000
DTSTAMP:20260421T181458
CREATED:20240205T145303Z
LAST-MODIFIED:20250301T161715Z
UID:97641-1755856800-1755885600@nieuw.vries.nu
SUMMARY:Volksvermaken: Kinderspeldagen\, dag 3 met feestelijke afsluiting
DESCRIPTION:Zie bericht!
URL:https://nieuw.vries.nu/agendapunt/volksvermaken-kinderspeldagen-dag-3-met-feestelijke-afsluiting/
LOCATION:Paasvuurlocatie
CATEGORIES:Volksvermaken Vries
END:VEVENT
BEGIN:VEVENT
DTSTART;TZID=Europe/Amsterdam:20250821T100000
DTEND;TZID=Europe/Amsterdam:20250821T160000
DTSTAMP:20260421T181458
CREATED:20240205T145202Z
LAST-MODIFIED:20250301T161806Z
UID:97639-1755770400-1755792000@nieuw.vries.nu
SUMMARY:Volksvermaken: Kinderspeldagen\, dag 2
DESCRIPTION:Zie bericht!
URL:https://nieuw.vries.nu/agendapunt/volksvermaken-kinderspeldagen-dag-2-2/
LOCATION:Paasvuurlocatie
CATEGORIES:Volksvermaken Vries
END:VEVENT
BEGIN:VEVENT
DTSTART;TZID=Europe/Amsterdam:20250820T100000
DTEND;TZID=Europe/Amsterdam:20250820T160000
DTSTAMP:20260421T181458
CREATED:20240205T145121Z
LAST-MODIFIED:20250301T161856Z
UID:97636-1755684000-1755705600@nieuw.vries.nu
SUMMARY:Volksvermaken: Kinderspeldagen\, dag 1
DESCRIPTION:Zie bericht!
URL:https://nieuw.vries.nu/agendapunt/volksvermaken-kinderspeldagen-dag-1/
LOCATION:Paasvuurlocatie
CATEGORIES:Volksvermaken Vries
END:VEVENT
BEGIN:VEVENT
DTSTART;TZID=Europe/Amsterdam:20250810T100000
DTEND;TZID=Europe/Amsterdam:20250810T170000
DTSTAMP:20260421T181458
CREATED:20240708T161918Z
LAST-MODIFIED:20250301T161342Z
UID:109069-1754820000-1754845200@nieuw.vries.nu
SUMMARY:Volksvermaken: Tynaarlo fietstocht
DESCRIPTION:Zie bericht!
URL:https://nieuw.vries.nu/agendapunt/volksvermaken-tynaarlo-fietstocht/
LOCATION:Grand Café Onder de Linden\, Brink 4\, Vries
CATEGORIES:Volksvermaken Vries
END:VEVENT
BEGIN:VEVENT
DTSTART;TZID=Europe/Amsterdam:20250803T093000
DTEND;TZID=Europe/Amsterdam:20250803T110000
DTSTAMP:20260421T181458
CREATED:20240205T104629Z
LAST-MODIFIED:20250301T155850Z
UID:97497-1754213400-1754218800@nieuw.vries.nu
SUMMARY:Volksvermaken: klootschieten
DESCRIPTION:Zie bericht!
URL:https://nieuw.vries.nu/agendapunt/volksvermaken-klootschieten-11/
LOCATION:Café Zalencentrum ‘Onder de Linden’\, Brink 4\, Vries
CATEGORIES:Volksvermaken Vries
END:VEVENT
BEGIN:VEVENT
DTSTART;TZID=Europe/Amsterdam:20250706T093000
DTEND;TZID=Europe/Amsterdam:20250706T110000
DTSTAMP:20260421T181458
CREATED:20240205T105120Z
LAST-MODIFIED:20250301T155804Z
UID:97507-1751794200-1751799600@nieuw.vries.nu
SUMMARY:Volksvermaken: klootschieten
DESCRIPTION:Zie bericht!
URL:https://nieuw.vries.nu/agendapunt/volksvermaken-klootschieten-7/
LOCATION:Grand Café Onder de Linden\, Brink 4\, Vries
CATEGORIES:Volksvermaken Vries
END:VEVENT
BEGIN:VEVENT
DTSTART;TZID=Europe/Amsterdam:20250613T190000
DTEND;TZID=Europe/Amsterdam:20250613T223000
DTSTAMP:20260421T181458
CREATED:20240205T152241Z
LAST-MODIFIED:20250301T160200Z
UID:97554-1749841200-1749853800@nieuw.vries.nu
SUMMARY:Volksvermaken: Grote klootschietavond
DESCRIPTION:Zie bericht!
URL:https://nieuw.vries.nu/agendapunt/volksvermaken-grote-klootschietavond-2/
LOCATION:Grand Café Onder de Linden\, Brink 4\, Vries
CATEGORIES:Volksvermaken Vries
END:VEVENT
BEGIN:VEVENT
DTSTART;TZID=Europe/Amsterdam:20250601T093000
DTEND;TZID=Europe/Amsterdam:20250601T110000
DTSTAMP:20260421T181458
CREATED:20240205T105336Z
LAST-MODIFIED:20250301T155708Z
UID:97504-1748770200-1748775600@nieuw.vries.nu
SUMMARY:Volksvermaken: klootschieten
DESCRIPTION:Zie bericht!
URL:https://nieuw.vries.nu/agendapunt/volksvermaken-klootschieten-6/
LOCATION:Grand Café Onder de Linden\, Brink 4\, Vries
CATEGORIES:Volksvermaken Vries
END:VEVENT
BEGIN:VEVENT
DTSTART;TZID=Europe/Amsterdam:20250518T110000
DTEND;TZID=Europe/Amsterdam:20250518T170000
DTSTAMP:20260421T181458
CREATED:20240205T184538Z
LAST-MODIFIED:20250225T132453Z
UID:104811-1747566000-1747587600@nieuw.vries.nu
SUMMARY:Toafel in Tuune
DESCRIPTION:Voor meer informatie: Klik hier!
URL:https://nieuw.vries.nu/agendapunt/toafel-in-tuune/
LOCATION:Door het hele dorp
CATEGORIES:Volksvermaken Vries
END:VEVENT
BEGIN:VEVENT
DTSTART;TZID=Europe/Amsterdam:20250516T180000
DTEND;TZID=Europe/Amsterdam:20250516T200000
DTSTAMP:20260421T181458
CREATED:20240205T152257Z
LAST-MODIFIED:20250225T132101Z
UID:97552-1747418400-1747425600@nieuw.vries.nu
SUMMARY:Volksvermaken: 4e dag Avondvierdaagse
DESCRIPTION:Zie bericht volksvermaken Vries: Klik hier!
URL:https://nieuw.vries.nu/agendapunt/volksvermaken-4e-dag-avondvierdaagse/
LOCATION:Grand Café Onder de Linden\, Brink 4\, Vries
CATEGORIES:Volksvermaken Vries
END:VEVENT
BEGIN:VEVENT
DTSTART;TZID=Europe/Amsterdam:20250515T180000
DTEND;TZID=Europe/Amsterdam:20250515T200000
DTSTAMP:20260421T181458
CREATED:20240205T152216Z
LAST-MODIFIED:20250225T132025Z
UID:97550-1747332000-1747339200@nieuw.vries.nu
SUMMARY:Volksvermaken: 3e dag Avondvierdaagse
DESCRIPTION:Zie bericht volksvermaken Vries: Klik hier!
URL:https://nieuw.vries.nu/agendapunt/volksvermaken-3e-dag-avondvierdaagse/
LOCATION:Grand Café Onder de Linden\, Brink 4\, Vries
CATEGORIES:Volksvermaken Vries
END:VEVENT
BEGIN:VEVENT
DTSTART;TZID=Europe/Amsterdam:20250514T180000
DTEND;TZID=Europe/Amsterdam:20250514T200000
DTSTAMP:20260421T181458
CREATED:20240205T152323Z
LAST-MODIFIED:20250225T131908Z
UID:97548-1747245600-1747252800@nieuw.vries.nu
SUMMARY:Volksvermaken: 2e dagAvondvierdaagse
DESCRIPTION:Zie bericht volksvermaken Vries: Klik hier!
URL:https://nieuw.vries.nu/agendapunt/volksvermaken-2e-dagavondvierdaagse/
LOCATION:Grand Café Onder de Linden\, Brink 4\, Vries
CATEGORIES:Volksvermaken Vries
END:VEVENT
BEGIN:VEVENT
DTSTART;TZID=Europe/Amsterdam:20250513T180000
DTEND;TZID=Europe/Amsterdam:20250513T200000
DTSTAMP:20260421T181458
CREATED:20240205T153036Z
LAST-MODIFIED:20250225T131946Z
UID:97546-1747159200-1747166400@nieuw.vries.nu
SUMMARY:Volksvermaken: 1e dag Avondvierdaagse
DESCRIPTION:Zie bericht volksvermaken Vries: Klik hier!
URL:https://nieuw.vries.nu/agendapunt/volksvermaken-1e-dag-avondvierdaagse/
LOCATION:Grand Café Onder de Linden\, Brink 4\, Vries
CATEGORIES:Volksvermaken Vries
END:VEVENT
BEGIN:VEVENT
DTSTART;TZID=Europe/Amsterdam:20250509T200000
DTEND;TZID=Europe/Amsterdam:20250509T223000
DTSTAMP:20260421T181458
CREATED:20230213T152313Z
LAST-MODIFIED:20250225T125152Z
UID:97521-1746820800-1746829800@nieuw.vries.nu
SUMMARY:Volksvermaken: Pubquiz
DESCRIPTION:Pubquiz een nieuwe aflevering van de populaire pubquiz. geef je via de pubquiz pagina op klik hier!
URL:https://nieuw.vries.nu/agendapunt/volksvermaken-pubquiz-6/
LOCATION:Grand Café Onder de Linden\, Brink 4\, Vries
CATEGORIES:Volksvermaken Vries
END:VEVENT
END:VCALENDAR