BEGIN:VCALENDAR
VERSION:2.0
PRODID:-//Vries.nu - ECPv6.15.20//NONSGML v1.0//EN
CALSCALE:GREGORIAN
METHOD:PUBLISH
X-WR-CALNAME:Vries.nu
X-ORIGINAL-URL:https://nieuw.vries.nu
X-WR-CALDESC:Evenementen voor Vries.nu
REFRESH-INTERVAL;VALUE=DURATION:PT1H
X-Robots-Tag:noindex
X-PUBLISHED-TTL:PT1H
BEGIN:VTIMEZONE
TZID:Europe/Amsterdam
BEGIN:DAYLIGHT
TZOFFSETFROM:+0100
TZOFFSETTO:+0200
TZNAME:CEST
DTSTART:20240331T010000
END:DAYLIGHT
BEGIN:STANDARD
TZOFFSETFROM:+0200
TZOFFSETTO:+0100
TZNAME:CET
DTSTART:20241027T010000
END:STANDARD
BEGIN:DAYLIGHT
TZOFFSETFROM:+0100
TZOFFSETTO:+0200
TZNAME:CEST
DTSTART:20250330T010000
END:DAYLIGHT
BEGIN:STANDARD
TZOFFSETFROM:+0200
TZOFFSETTO:+0100
TZNAME:CET
DTSTART:20251026T010000
END:STANDARD
BEGIN:DAYLIGHT
TZOFFSETFROM:+0100
TZOFFSETTO:+0200
TZNAME:CEST
DTSTART:20260329T010000
END:DAYLIGHT
BEGIN:STANDARD
TZOFFSETFROM:+0200
TZOFFSETTO:+0100
TZNAME:CET
DTSTART:20261025T010000
END:STANDARD
END:VTIMEZONE
BEGIN:VEVENT
DTSTART;VALUE=DATE:20250927
DTEND;VALUE=DATE:20250929
DTSTAMP:20260421T180856
CREATED:20250904T114149Z
LAST-MODIFIED:20250904T114149Z
UID:117144-1758931200-1759103999@nieuw.vries.nu
SUMMARY:Theater: Howtodisappaer
DESCRIPTION:Theater op locatie. Zowel op zaterdag  27 als zondag 28 september en diverse aanvangstijden.\nZie het bericht op deze site
URL:https://nieuw.vries.nu/agendapunt/theater-howtodisappaer/
LOCATION:De Natuurplaats Noordsche Veld\, Donderseweg 22\, Norg\, 9331 TB
CATEGORIES:Natuurplaats Het Noordsche Veld,Theater
END:VEVENT
BEGIN:VEVENT
DTSTART;TZID=Europe/Amsterdam:20250830T110000
DTEND;TZID=Europe/Amsterdam:20250830T110000
DTSTAMP:20260421T180856
CREATED:20250815T125222Z
LAST-MODIFIED:20250815T125810Z
UID:116867-1756551600-1756551600@nieuw.vries.nu
SUMMARY:How to disappear
DESCRIPTION:Theater in de natuur. Zie het bericht op Vries.nu voor alle data en tijden !\nWant ook op Op 31 augustus\, 27 en 28 september en diverse aanvangstijden vanaf 11: 00 u. \n 
URL:https://nieuw.vries.nu/agendapunt/how-to-disappear/
LOCATION:De Natuurplaats Noordsche Veld\, Donderseweg 22\, Norg\, 9331 TB
CATEGORIES:Theater,Toneel
END:VEVENT
END:VCALENDAR