BEGIN:VCALENDAR
VERSION:2.0
PRODID:-//Vries.nu - ECPv6.15.20//NONSGML v1.0//EN
CALSCALE:GREGORIAN
METHOD:PUBLISH
X-ORIGINAL-URL:https://nieuw.vries.nu
X-WR-CALDESC:Evenementen voor Vries.nu
REFRESH-INTERVAL;VALUE=DURATION:PT1H
X-Robots-Tag:noindex
X-PUBLISHED-TTL:PT1H
BEGIN:VTIMEZONE
TZID:Europe/Amsterdam
BEGIN:DAYLIGHT
TZOFFSETFROM:+0100
TZOFFSETTO:+0200
TZNAME:CEST
DTSTART:20240331T010000
END:DAYLIGHT
BEGIN:STANDARD
TZOFFSETFROM:+0200
TZOFFSETTO:+0100
TZNAME:CET
DTSTART:20241027T010000
END:STANDARD
BEGIN:DAYLIGHT
TZOFFSETFROM:+0100
TZOFFSETTO:+0200
TZNAME:CEST
DTSTART:20250330T010000
END:DAYLIGHT
BEGIN:STANDARD
TZOFFSETFROM:+0200
TZOFFSETTO:+0100
TZNAME:CET
DTSTART:20251026T010000
END:STANDARD
BEGIN:DAYLIGHT
TZOFFSETFROM:+0100
TZOFFSETTO:+0200
TZNAME:CEST
DTSTART:20260329T010000
END:DAYLIGHT
BEGIN:STANDARD
TZOFFSETFROM:+0200
TZOFFSETTO:+0100
TZNAME:CET
DTSTART:20261025T010000
END:STANDARD
END:VTIMEZONE
BEGIN:VEVENT
DTSTART;TZID=Europe/Amsterdam:20250524T083000
DTEND;TZID=Europe/Amsterdam:20250524T163000
DTSTAMP:20260421T181411
CREATED:20250516T184947Z
LAST-MODIFIED:20250516T190957Z
UID:115542-1748075400-1748104200@nieuw.vries.nu
SUMMARY:Moves4Fun Triathlon Vries
DESCRIPTION:
URL:https://nieuw.vries.nu/agendapunt/moves4fun-triathlon-vries/
LOCATION:Start Zwembad de Leemdobben
CATEGORIES:Sport
END:VEVENT
BEGIN:VEVENT
DTSTART;TZID=Europe/Amsterdam:20250523T144500
DTEND;TZID=Europe/Amsterdam:20250523T170000
DTSTAMP:20260421T181411
CREATED:20250503T141942Z
LAST-MODIFIED:20250503T141942Z
UID:115026-1748011500-1748019600@nieuw.vries.nu
SUMMARY:Scholenkampioenschap tafeltennis
DESCRIPTION:Voor meer informatie\, klik hier! \nVoorafgaand aan de scholenkampioenschappen kan er geoefend worden bij TTV Vries. Alle geïnteresseerden mogen 3 keer gratis meedoen op de maandagavond van 18-19 uur in Sporthal de Kamp. Dit kan voorafgaand aan de scholenkampioenschappen op 12 of 19 mei\, maar na de scholenkampioenschappen zijn de deelnemers ook van harte welkom! Batjes zijn bij de vereniging aanwezig.
URL:https://nieuw.vries.nu/agendapunt/scholenkampioenschap-tafeltennis/
LOCATION:Bij Sporthal de Kamp
CATEGORIES:Sport,Tennis
ORGANIZER;CN="TTV Vries":MAILTO:info@ttvvries.nl
END:VEVENT
BEGIN:VEVENT
DTSTART;TZID=Europe/Amsterdam:20250517T093000
DTEND;TZID=Europe/Amsterdam:20250518T170000
DTSTAMP:20260421T181411
CREATED:20250430T154134Z
LAST-MODIFIED:20250430T154134Z
UID:114994-1747474200-1747587600@nieuw.vries.nu
SUMMARY:Hippisch Festijn PSV Polarfürst in Vries
DESCRIPTION:Voor meer informatie\, Klik hier!
URL:https://nieuw.vries.nu/agendapunt/hippisch-festijn-psv-polarfurst-in-vries/
LOCATION:Paardensportccentrum Jan Dolfing
CATEGORIES:Open dag,Paardensport,Sport
END:VEVENT
END:VCALENDAR