BEGIN:VCALENDAR
VERSION:2.0
PRODID:-//Vries.nu - ECPv6.15.20//NONSGML v1.0//EN
CALSCALE:GREGORIAN
METHOD:PUBLISH
X-WR-CALNAME:Vries.nu
X-ORIGINAL-URL:https://nieuw.vries.nu
X-WR-CALDESC:Evenementen voor Vries.nu
REFRESH-INTERVAL;VALUE=DURATION:PT1H
X-Robots-Tag:noindex
X-PUBLISHED-TTL:PT1H
BEGIN:VTIMEZONE
TZID:Europe/Amsterdam
BEGIN:DAYLIGHT
TZOFFSETFROM:+0100
TZOFFSETTO:+0200
TZNAME:CEST
DTSTART:20240331T010000
END:DAYLIGHT
BEGIN:STANDARD
TZOFFSETFROM:+0200
TZOFFSETTO:+0100
TZNAME:CET
DTSTART:20241027T010000
END:STANDARD
BEGIN:DAYLIGHT
TZOFFSETFROM:+0100
TZOFFSETTO:+0200
TZNAME:CEST
DTSTART:20250330T010000
END:DAYLIGHT
BEGIN:STANDARD
TZOFFSETFROM:+0200
TZOFFSETTO:+0100
TZNAME:CET
DTSTART:20251026T010000
END:STANDARD
BEGIN:DAYLIGHT
TZOFFSETFROM:+0100
TZOFFSETTO:+0200
TZNAME:CEST
DTSTART:20260329T010000
END:DAYLIGHT
BEGIN:STANDARD
TZOFFSETFROM:+0200
TZOFFSETTO:+0100
TZNAME:CET
DTSTART:20261025T010000
END:STANDARD
END:VTIMEZONE
BEGIN:VEVENT
DTSTART;TZID=Europe/Amsterdam:20251210T140000
DTEND;TZID=Europe/Amsterdam:20251210T203000
DTSTAMP:20260421T194459
CREATED:20241207T150558Z
LAST-MODIFIED:20251122T123600Z
UID:111564-1765375200-1765398600@nieuw.vries.nu
SUMMARY:Kerstmarkt
DESCRIPTION:Op 10 december verwelkomen we je graag op de jaarlijkse kerstmarkt op de Brink in Vries. De gezelligheid begint om 14:00 uur en duurt tot het niet meer gezellig is 😉 Geniet van kraampjes vol lekkernijen\, ambachtelijke producten en kerstcadeaus. Laat je betoveren door de kerstsfeer en kom langs!
URL:https://nieuw.vries.nu/agendapunt/dickens-kerstmarkt/
LOCATION:Op en rond de Brink
CATEGORIES:Bazaar,eten en drinken,Markt
END:VEVENT
BEGIN:VEVENT
DTSTART;TZID=Europe/Amsterdam:20251123T100000
DTEND;TZID=Europe/Amsterdam:20251123T160000
DTSTAMP:20260421T194459
CREATED:20251110T095812Z
LAST-MODIFIED:20251110T095812Z
UID:118230-1763892000-1763913600@nieuw.vries.nu
SUMMARY:Beurs Creatief Vries in Dorpshuis de Pan
DESCRIPTION:Zie bericht op vries.nu!
URL:https://nieuw.vries.nu/agendapunt/beurs-creatief-vries-in-dorpshuis-de-pan/
LOCATION:Dorpshuis De Pan\, Nieuwe Rijksweg 4\, Vries
CATEGORIES:Brocante,eten en drinken,Fancy Fair,Markt,Workshop
END:VEVENT
BEGIN:VEVENT
DTSTART;TZID=Europe/Amsterdam:20251121T110000
DTEND;TZID=Europe/Amsterdam:20251121T170000
DTSTAMP:20260421T194459
CREATED:20251108T143345Z
LAST-MODIFIED:20251108T143345Z
UID:118212-1763722800-1763744400@nieuw.vries.nu
SUMMARY:Wintersfeerdagen in Het Koetshuis
DESCRIPTION:
URL:https://nieuw.vries.nu/agendapunt/wintersfeerdagen-in-het-koetshuis/
LOCATION:Het Koetshuis\, Schultestraat 4\, Vries\, 9481 BC
CATEGORIES:Antiek,Brocante,Markt
END:VEVENT
BEGIN:VEVENT
DTSTART;TZID=Europe/Amsterdam:20250920T130000
DTEND;TZID=Europe/Amsterdam:20250920T170000
DTSTAMP:20260421T194459
CREATED:20250916T102007Z
LAST-MODIFIED:20250916T102007Z
UID:117264-1758373200-1758387600@nieuw.vries.nu
SUMMARY:Vries: Opening Cultureel Seizoen '25 - '26
DESCRIPTION:Zie het bericht.
URL:https://nieuw.vries.nu/agendapunt/vries-opening-cultureel-seizoen-25-26/
LOCATION:De Brink\, Vries
CATEGORIES:Concerten,Cultuur,Markt,Toneel
END:VEVENT
BEGIN:VEVENT
DTSTART;TZID=Europe/Amsterdam:20250426T111500
DTEND;TZID=Europe/Amsterdam:20250426T160000
DTSTAMP:20260421T194459
CREATED:20250410T084306Z
LAST-MODIFIED:20250410T085129Z
UID:114417-1745666100-1745683200@nieuw.vries.nu
SUMMARY:Koningsdag 2025 : Start activiteiten
DESCRIPTION:Kindervrijmarkt\, VAKO voetbal met voetbalspelletjes\, broodjes bakken en krat- stapelen met scouting\, demonstratie streetdance\, stokpaardjes springwedstrijd (paardjes aanwezig)\, ritje met de brandweerauto\, ijsje\, popcorn\, ranja\, broodje knak\, springkussen en survivalbaan\, knutseltent\, superbellenblaas\, schminken.
URL:https://nieuw.vries.nu/agendapunt/koningsdag-2025-start-activiteiten/
LOCATION:De Brink\, Vries
CATEGORIES:Bazaar,eten en drinken,Kinderen,Markt,Rommelmarkt,Voetbal
END:VEVENT
BEGIN:VEVENT
DTSTART;TZID=Europe/Amsterdam:20250426T110000
DTEND;TZID=Europe/Amsterdam:20250426T120000
DTSTAMP:20260421T194459
CREATED:20250410T083816Z
LAST-MODIFIED:20250410T083816Z
UID:114415-1745665200-1745668800@nieuw.vries.nu
SUMMARY:Koningsdag 2025 : Officiële opening
DESCRIPTION:Toespraak door burgemeester Thijsen – aubade door Harmonie Vries – het hijsen van de vlag door Scouting Vries. Aansluitend verzorgen alle geledingen van Harmonie Vries een concert.
URL:https://nieuw.vries.nu/agendapunt/koningsdag-2025-officiele-opening/
LOCATION:De Brink\, Vries
CATEGORIES:Concerten,Kinderen,Markt,Volksvermaken Vries
END:VEVENT
BEGIN:VEVENT
DTSTART;TZID=Europe/Amsterdam:20250426T100000
DTEND;TZID=Europe/Amsterdam:20250426T170000
DTSTAMP:20260421T194459
CREATED:20250410T083327Z
LAST-MODIFIED:20250410T083327Z
UID:114413-1745661600-1745686800@nieuw.vries.nu
SUMMARY:Koningsdag 2025 :  Start opbouw kindervrijmarkt
DESCRIPTION:Vanaf 10.00 uur opbouw van de kindervrijmarkt in de Brinkstraat en op parkeerplaats aan de Brink.
URL:https://nieuw.vries.nu/agendapunt/koningsdag-2025-start-opbouw-kindervrijmarkt/
LOCATION:Op en rond de Brink\, Vries
CATEGORIES:Markt,Rommelmarkt
END:VEVENT
END:VCALENDAR