BEGIN:VCALENDAR
VERSION:2.0
PRODID:-//Vries.nu - ECPv6.15.20//NONSGML v1.0//EN
CALSCALE:GREGORIAN
METHOD:PUBLISH
X-WR-CALNAME:Vries.nu
X-ORIGINAL-URL:https://nieuw.vries.nu
X-WR-CALDESC:Evenementen voor Vries.nu
REFRESH-INTERVAL;VALUE=DURATION:PT1H
X-Robots-Tag:noindex
X-PUBLISHED-TTL:PT1H
BEGIN:VTIMEZONE
TZID:Europe/Amsterdam
BEGIN:DAYLIGHT
TZOFFSETFROM:+0100
TZOFFSETTO:+0200
TZNAME:CEST
DTSTART:20240331T010000
END:DAYLIGHT
BEGIN:STANDARD
TZOFFSETFROM:+0200
TZOFFSETTO:+0100
TZNAME:CET
DTSTART:20241027T010000
END:STANDARD
BEGIN:DAYLIGHT
TZOFFSETFROM:+0100
TZOFFSETTO:+0200
TZNAME:CEST
DTSTART:20250330T010000
END:DAYLIGHT
BEGIN:STANDARD
TZOFFSETFROM:+0200
TZOFFSETTO:+0100
TZNAME:CET
DTSTART:20251026T010000
END:STANDARD
BEGIN:DAYLIGHT
TZOFFSETFROM:+0100
TZOFFSETTO:+0200
TZNAME:CEST
DTSTART:20260329T010000
END:DAYLIGHT
BEGIN:STANDARD
TZOFFSETFROM:+0200
TZOFFSETTO:+0100
TZNAME:CET
DTSTART:20261025T010000
END:STANDARD
END:VTIMEZONE
BEGIN:VEVENT
DTSTART;TZID=Europe/Amsterdam:20251231T193000
DTEND;TZID=Europe/Amsterdam:20251231T210000
DTSTAMP:20260421T181329
CREATED:20240111T083822Z
LAST-MODIFIED:20251102T083016Z
UID:104371-1767209400-1767214800@nieuw.vries.nu
SUMMARY:Kerkdienst Oudejaarsavond 31 december\, 19.30 u
DESCRIPTION:Zangdienst
URL:https://nieuw.vries.nu/agendapunt/kerkdienst-zondag-12-mei/
LOCATION:Bonifatiuskerk (dorpskerk)
CATEGORIES:Kerkdienst
END:VEVENT
BEGIN:VEVENT
DTSTART;TZID=Europe/Amsterdam:20251228T100000
DTEND;TZID=Europe/Amsterdam:20251228T110000
DTSTAMP:20260421T181329
CREATED:20240111T084102Z
LAST-MODIFIED:20251102T082856Z
UID:104373-1766916000-1766919600@nieuw.vries.nu
SUMMARY:Kerkdienst Zondag 28 december\, 10 uur
DESCRIPTION:Top-2000 dienst m.m.v. band Just4You
URL:https://nieuw.vries.nu/agendapunt/kerkdienst-donderdag-9-mei/
LOCATION:Bonifatiuskerk (dorpskerk)
CATEGORIES:Kerkdienst
END:VEVENT
BEGIN:VEVENT
DTSTART;TZID=Europe/Amsterdam:20251225T100000
DTEND;TZID=Europe/Amsterdam:20251225T110000
DTSTAMP:20260421T181329
CREATED:20240111T084246Z
LAST-MODIFIED:20251102T082716Z
UID:104375-1766656800-1766660400@nieuw.vries.nu
SUMMARY:1e kerstdag 25 december\, 10 uur
DESCRIPTION:Voorganger ds. Peter van de Peppel
URL:https://nieuw.vries.nu/agendapunt/kerkdienst-zondag-5-mei/
LOCATION:Bonifatiuskerk (dorpskerk)
CATEGORIES:Kerkdienst
END:VEVENT
BEGIN:VEVENT
DTSTART;TZID=Europe/Amsterdam:20251224T220000
DTEND;TZID=Europe/Amsterdam:20251224T233000
DTSTAMP:20260421T181329
CREATED:20240111T084355Z
LAST-MODIFIED:20251102T082556Z
UID:104377-1766613600-1766619000@nieuw.vries.nu
SUMMARY:Kerstavond 24 december\, 22 uur
DESCRIPTION:Lessons and Carols\, m.m.v. De Cantorij
URL:https://nieuw.vries.nu/agendapunt/kerkdienst-zondag-28-april/
LOCATION:Bonifatiuskerk (dorpskerk)
CATEGORIES:Kerkdienst
END:VEVENT
BEGIN:VEVENT
DTSTART;TZID=Europe/Amsterdam:20251221T100000
DTEND;TZID=Europe/Amsterdam:20251221T110000
DTSTAMP:20260421T181329
CREATED:20240111T084647Z
LAST-MODIFIED:20251102T082352Z
UID:104381-1766311200-1766314800@nieuw.vries.nu
SUMMARY:Kerkdienst Zondag 21december\, 10 uur\, Avondmaalsdienst
DESCRIPTION:Voorganger ds. Anita Akkerman
URL:https://nieuw.vries.nu/agendapunt/kerkdienst-zondag-14-april/
LOCATION:Bonifatiuskerk (dorpskerk)
CATEGORIES:Kerkdienst
END:VEVENT
BEGIN:VEVENT
DTSTART;TZID=Europe/Amsterdam:20251214T100000
DTEND;TZID=Europe/Amsterdam:20251214T110000
DTSTAMP:20260421T181329
CREATED:20250128T104916Z
LAST-MODIFIED:20251102T082244Z
UID:113216-1765706400-1765710000@nieuw.vries.nu
SUMMARY:Kerkdienst Zondag 14 december\, 10 uur
DESCRIPTION:Voorganger dhr. Jacob Maat
URL:https://nieuw.vries.nu/agendapunt/kerkdienst-zondag-9-maart-10-00-uur/
LOCATION:Bonifatiuskerk (dorpskerk)
CATEGORIES:Kerkdienst
END:VEVENT
BEGIN:VEVENT
DTSTART;TZID=Europe/Amsterdam:20251207T100000
DTEND;TZID=Europe/Amsterdam:20251207T110000
DTSTAMP:20260421T181329
CREATED:20250128T105124Z
LAST-MODIFIED:20251102T082147Z
UID:113218-1765101600-1765105200@nieuw.vries.nu
SUMMARY:Kerkdienst Zondag 7 december\, 10 uur
DESCRIPTION:Voorganger mw. Wilma Klok
URL:https://nieuw.vries.nu/agendapunt/kerkdienst-zondag-16-maart-10-00-uur/
LOCATION:Bonifatiuskerk (dorpskerk)
CATEGORIES:Kerkdienst
END:VEVENT
BEGIN:VEVENT
DTSTART;TZID=Europe/Amsterdam:20251130T100000
DTEND;TZID=Europe/Amsterdam:20251130T110000
DTSTAMP:20260421T181329
CREATED:20250128T105646Z
LAST-MODIFIED:20251102T082013Z
UID:113220-1764496800-1764500400@nieuw.vries.nu
SUMMARY:Kerkdienst Zondag 30 november\, 10 uur
DESCRIPTION:Voorganger mw. Petra de Kruijf
URL:https://nieuw.vries.nu/agendapunt/kerkdienst-zondag-23-maart-10-00-uur/
LOCATION:Bonifatiuskerk (dorpskerk)
CATEGORIES:Kerkdienst
END:VEVENT
BEGIN:VEVENT
DTSTART;TZID=Europe/Amsterdam:20251123T100000
DTEND;TZID=Europe/Amsterdam:20251123T110000
DTSTAMP:20260421T181329
CREATED:20250128T105817Z
LAST-MODIFIED:20251102T081907Z
UID:113223-1763892000-1763895600@nieuw.vries.nu
SUMMARY:Kerkdienst 23 november\, 10 uur
DESCRIPTION:Gedachtenisdienst\nVoorgangers mw. Esther de Vegt en mw. Wilma Klok
URL:https://nieuw.vries.nu/agendapunt/kerkdienst-zondag-30-maart-10-00-uur/
LOCATION:Bonifatiuskerk (dorpskerk)
CATEGORIES:Kerkdienst
END:VEVENT
BEGIN:VEVENT
DTSTART;TZID=Europe/Amsterdam:20251116T100000
DTEND;TZID=Europe/Amsterdam:20251116T110000
DTSTAMP:20260421T181329
CREATED:20250128T105945Z
LAST-MODIFIED:20251102T081754Z
UID:113225-1763287200-1763290800@nieuw.vries.nu
SUMMARY:Kerkdienst Zondag 16 november\, 10 uur
DESCRIPTION:Voorganger ds. Bram Riepma
URL:https://nieuw.vries.nu/agendapunt/kerkdienst-zondag-6-april-10-00-uur/
LOCATION:Bonifatiuskerk (dorpskerk)
CATEGORIES:Kerkdienst
END:VEVENT
BEGIN:VEVENT
DTSTART;TZID=Europe/Amsterdam:20251109T100000
DTEND;TZID=Europe/Amsterdam:20251109T110000
DTSTAMP:20260421T181329
CREATED:20250128T110140Z
LAST-MODIFIED:20251102T081637Z
UID:113227-1762682400-1762686000@nieuw.vries.nu
SUMMARY:Kerkdienst Zondag 9 november\, 10 uur
DESCRIPTION:Voorganger mw. Wilma Klok
URL:https://nieuw.vries.nu/agendapunt/kerkdienst-zondag-13-april-10-00-uur/
LOCATION:Bonifatiuskerk (dorpskerk)
CATEGORIES:Kerkdienst
END:VEVENT
BEGIN:VEVENT
DTSTART;TZID=Europe/Amsterdam:20251102T100000
DTEND;TZID=Europe/Amsterdam:20251102T110000
DTSTAMP:20260421T181329
CREATED:20240111T084520Z
LAST-MODIFIED:20250907T131559Z
UID:104379-1762077600-1762081200@nieuw.vries.nu
SUMMARY:Kerkdienst Zondag 2 november\, 10 uur
DESCRIPTION:Voorganger ds. Jan Hommes\ngezinsdienst
URL:https://nieuw.vries.nu/agendapunt/kerkdienst-zondag-21-april/
LOCATION:Bonifatiuskerk (dorpskerk)
CATEGORIES:Kerkdienst
END:VEVENT
BEGIN:VEVENT
DTSTART;TZID=Europe/Amsterdam:20251101T200000
DTEND;TZID=Europe/Amsterdam:20251101T220000
DTSTAMP:20260421T181329
CREATED:20251004T075725Z
LAST-MODIFIED:20251004T075725Z
UID:117585-1762027200-1762034400@nieuw.vries.nu
SUMMARY:Concert rond Allerzielen\, kamerkoor Tiraña
DESCRIPTION:Zie ook het bericht op deze site
URL:https://nieuw.vries.nu/agendapunt/concert-rond-allerzielen-kamerkoor-tirana/
LOCATION:Bonifatiuskerk (dorpskerk)
CATEGORIES:Concerten,Gedenken,Kerkdienst
END:VEVENT
BEGIN:VEVENT
DTSTART;TZID=Europe/Amsterdam:20251005T150000
DTEND;TZID=Europe/Amsterdam:20251005T170000
DTSTAMP:20260421T181329
CREATED:20250920T084619Z
LAST-MODIFIED:20250920T084619Z
UID:117321-1759676400-1759683600@nieuw.vries.nu
SUMMARY:Sing-IN
DESCRIPTION:Zie bericht!
URL:https://nieuw.vries.nu/agendapunt/sing-in/
LOCATION:Bonifatiuskerk (dorpskerk)
CATEGORIES:Concerten,Kerkdienst
END:VEVENT
BEGIN:VEVENT
DTSTART;TZID=Europe/Amsterdam:20250907T100000
DTEND;TZID=Europe/Amsterdam:20250907T110000
DTSTAMP:20260421T181329
CREATED:20240111T081628Z
LAST-MODIFIED:20250602T144040Z
UID:104349-1757239200-1757242800@nieuw.vries.nu
SUMMARY:Kerkdienst zondag 7 september
DESCRIPTION:Voorganger Mw. Esther de Vegt
URL:https://nieuw.vries.nu/agendapunt/kerkdienst-zondag-7-maart/
LOCATION:Bonifatiuskerk (dorpskerk)
CATEGORIES:Kerkdienst
END:VEVENT
BEGIN:VEVENT
DTSTART;TZID=Europe/Amsterdam:20250817T100000
DTEND;TZID=Europe/Amsterdam:20250817T110000
DTSTAMP:20260421T181329
CREATED:20240111T083646Z
LAST-MODIFIED:20250602T143613Z
UID:104369-1755424800-1755428400@nieuw.vries.nu
SUMMARY:Kerkdienst Zondag 17 augustus\, 10.00 uur
DESCRIPTION:Voorganger Dhr. René Herben
URL:https://nieuw.vries.nu/agendapunt/kerkdienst-zondag-19-mei/
LOCATION:Bonifatiuskerk (dorpskerk)
CATEGORIES:Kerkdienst
END:VEVENT
END:VCALENDAR