BEGIN:VCALENDAR
VERSION:2.0
PRODID:-//Vries.nu - ECPv6.15.20//NONSGML v1.0//EN
CALSCALE:GREGORIAN
METHOD:PUBLISH
X-ORIGINAL-URL:https://nieuw.vries.nu
X-WR-CALDESC:Evenementen voor Vries.nu
REFRESH-INTERVAL;VALUE=DURATION:PT1H
X-Robots-Tag:noindex
X-PUBLISHED-TTL:PT1H
BEGIN:VTIMEZONE
TZID:Europe/Amsterdam
BEGIN:DAYLIGHT
TZOFFSETFROM:+0100
TZOFFSETTO:+0200
TZNAME:CEST
DTSTART:20240331T010000
END:DAYLIGHT
BEGIN:STANDARD
TZOFFSETFROM:+0200
TZOFFSETTO:+0100
TZNAME:CET
DTSTART:20241027T010000
END:STANDARD
BEGIN:DAYLIGHT
TZOFFSETFROM:+0100
TZOFFSETTO:+0200
TZNAME:CEST
DTSTART:20250330T010000
END:DAYLIGHT
BEGIN:STANDARD
TZOFFSETFROM:+0200
TZOFFSETTO:+0100
TZNAME:CET
DTSTART:20251026T010000
END:STANDARD
BEGIN:DAYLIGHT
TZOFFSETFROM:+0100
TZOFFSETTO:+0200
TZNAME:CEST
DTSTART:20260329T010000
END:DAYLIGHT
BEGIN:STANDARD
TZOFFSETFROM:+0200
TZOFFSETTO:+0100
TZNAME:CET
DTSTART:20261025T010000
END:STANDARD
END:VTIMEZONE
BEGIN:VEVENT
DTSTART;TZID=Europe/Amsterdam:20250515T193000
DTEND;TZID=Europe/Amsterdam:20250515T213000
DTSTAMP:20260421T180955
CREATED:20250501T114922Z
LAST-MODIFIED:20250501T114922Z
UID:114998-1747337400-1747344600@nieuw.vries.nu
SUMMARY:Lezing dementiezorg: Positieve Psychologie
DESCRIPTION:
URL:https://nieuw.vries.nu/agendapunt/lezing-dementiezorg-positieve-psychologie/
LOCATION:De Enk\, Zuidlaren
CATEGORIES:Gezondheid,Lezing
END:VEVENT
END:VCALENDAR