BEGIN:VCALENDAR
VERSION:2.0
PRODID:-//Vries.nu - ECPv6.15.20//NONSGML v1.0//EN
CALSCALE:GREGORIAN
METHOD:PUBLISH
X-WR-CALNAME:Vries.nu
X-ORIGINAL-URL:https://nieuw.vries.nu
X-WR-CALDESC:Evenementen voor Vries.nu
REFRESH-INTERVAL;VALUE=DURATION:PT1H
X-Robots-Tag:noindex
X-PUBLISHED-TTL:PT1H
BEGIN:VTIMEZONE
TZID:Europe/Amsterdam
BEGIN:DAYLIGHT
TZOFFSETFROM:+0100
TZOFFSETTO:+0200
TZNAME:CEST
DTSTART:20240331T010000
END:DAYLIGHT
BEGIN:STANDARD
TZOFFSETFROM:+0200
TZOFFSETTO:+0100
TZNAME:CET
DTSTART:20241027T010000
END:STANDARD
BEGIN:DAYLIGHT
TZOFFSETFROM:+0100
TZOFFSETTO:+0200
TZNAME:CEST
DTSTART:20250330T010000
END:DAYLIGHT
BEGIN:STANDARD
TZOFFSETFROM:+0200
TZOFFSETTO:+0100
TZNAME:CET
DTSTART:20251026T010000
END:STANDARD
BEGIN:DAYLIGHT
TZOFFSETFROM:+0100
TZOFFSETTO:+0200
TZNAME:CEST
DTSTART:20260329T010000
END:DAYLIGHT
BEGIN:STANDARD
TZOFFSETFROM:+0200
TZOFFSETTO:+0100
TZNAME:CET
DTSTART:20261025T010000
END:STANDARD
END:VTIMEZONE
BEGIN:VEVENT
DTSTART;TZID=Europe/Amsterdam:20251130T160000
DTEND;TZID=Europe/Amsterdam:20251130T170000
DTSTAMP:20260421T180854
CREATED:20251106T150757Z
LAST-MODIFIED:20251106T150911Z
UID:118159-1764518400-1764522000@nieuw.vries.nu
SUMMARY:Als het donker wordt\, klinkt er een lied!
DESCRIPTION:Zie geplaatst bericht op vries.nu!
URL:https://nieuw.vries.nu/agendapunt/als-het-donker-wordt-klinkt-er-een-lied/
LOCATION:Bonifatiuskerk (dorpskerk)
CATEGORIES:Concerten,Gedenken
END:VEVENT
BEGIN:VEVENT
DTSTART;TZID=Europe/Amsterdam:20251122T180000
DTEND;TZID=Europe/Amsterdam:20251122T193000
DTSTAMP:20260421T180854
CREATED:20250206T170215Z
LAST-MODIFIED:20250206T170215Z
UID:113322-1763834400-1763839800@nieuw.vries.nu
SUMMARY:Lichtjesavond Uitvaartvereniging Vries
DESCRIPTION:Lichtjesavond Uitvaartvereniging Vries\, 22 November 2025 van 18.00 t/m 19.30 op de Begraafplaats aan de Eswal in Vries. \n 
URL:https://nieuw.vries.nu/agendapunt/lichtjesavond-uitvaartvereniging-vries-2/
LOCATION:Begraafplaats de Eswal
CATEGORIES:Gedenken
ORGANIZER;CN="Uitvaartvereniging Vries":MAILTO:info@uitvaartverenigingvries.nl
END:VEVENT
BEGIN:VEVENT
DTSTART;TZID=Europe/Amsterdam:20251101T200000
DTEND;TZID=Europe/Amsterdam:20251101T220000
DTSTAMP:20260421T180854
CREATED:20251004T075725Z
LAST-MODIFIED:20251004T075725Z
UID:117585-1762027200-1762034400@nieuw.vries.nu
SUMMARY:Concert rond Allerzielen\, kamerkoor Tiraña
DESCRIPTION:Zie ook het bericht op deze site
URL:https://nieuw.vries.nu/agendapunt/concert-rond-allerzielen-kamerkoor-tirana/
LOCATION:Bonifatiuskerk (dorpskerk)
CATEGORIES:Concerten,Gedenken,Kerkdienst
END:VEVENT
BEGIN:VEVENT
DTSTART;TZID=Europe/Amsterdam:20250510T200000
DTEND;TZID=Europe/Amsterdam:20250510T220000
DTSTAMP:20260421T180854
CREATED:20250429T115705Z
LAST-MODIFIED:20250429T115705Z
UID:114960-1746907200-1746914400@nieuw.vries.nu
SUMMARY:Koffer vol geheimen\, 4 mei project
DESCRIPTION:Voor meer informatie klik hier!
URL:https://nieuw.vries.nu/agendapunt/koffer-vol-geheimen-4-mei-project/
LOCATION:Bonifatiuskerk (dorpskerk)
CATEGORIES:Concerten,Gedenken,Lezing
ORGANIZER;CN="4 mei":MAILTO:helma@helmaerkelens.nl
END:VEVENT
BEGIN:VEVENT
DTSTART;TZID=Europe/Amsterdam:20250504T193000
DTEND;TZID=Europe/Amsterdam:20250504T220000
DTSTAMP:20260421T180854
CREATED:20250429T121559Z
LAST-MODIFIED:20250429T121559Z
UID:114965-1746387000-1746396000@nieuw.vries.nu
SUMMARY:Dodenherdenking in Vries
DESCRIPTION:Voor meer informatie klik hier!
URL:https://nieuw.vries.nu/agendapunt/dodenherdenking-in-vries/
LOCATION:dorp Vries
CATEGORIES:Gedenken,Lezing
END:VEVENT
BEGIN:VEVENT
DTSTART;TZID=Europe/Amsterdam:20250426T140000
DTEND;TZID=Europe/Amsterdam:20250426T170000
DTSTAMP:20260421T180854
CREATED:20250225T131246Z
LAST-MODIFIED:20250410T085016Z
UID:113594-1745676000-1745686800@nieuw.vries.nu
SUMMARY:Koningsdag 2025 : dj’s Arno en Guido
DESCRIPTION:Gezellige muziek met dj’s Arno en Guido op het terras bij Grand Café Onder de Linden.
URL:https://nieuw.vries.nu/agendapunt/koningsdag/
LOCATION:Grand Café Onder de Linden\, Brink 4\, Vries
CATEGORIES:Concerten,Dansen,Gedenken
END:VEVENT
BEGIN:VEVENT
DTSTART;TZID=Europe/Amsterdam:20250420T193000
DTEND;TZID=Europe/Amsterdam:20250420T220000
DTSTAMP:20260421T180854
CREATED:20250225T131009Z
LAST-MODIFIED:20250410T081550Z
UID:113592-1745177400-1745186400@nieuw.vries.nu
SUMMARY:GEANNULEERD I.V.M. DROOGTE: Paasvuur met fakkeloptocht
DESCRIPTION:Voor meer informatie klik op deze regel!
URL:https://nieuw.vries.nu/agendapunt/paasvuur-met-fakkeloptocht/
LOCATION:Evenemententerrein/ Paasvuurlocatie
CATEGORIES:Gedenken
END:VEVENT
BEGIN:VEVENT
DTSTART;TZID=Europe/Amsterdam:20250413T113000
DTEND;TZID=Europe/Amsterdam:20250413T140000
DTSTAMP:20260421T180854
CREATED:20250408T101150Z
LAST-MODIFIED:20250408T101158Z
UID:114368-1744543800-1744552800@nieuw.vries.nu
SUMMARY:80 jaar Vrijheid\, Dorpsbrunch
DESCRIPTION:Kom je gezellig naar de Dorpsbrunch? We doen deze brunch in de vorm van een potluck\, dit betekent dat iedereen iets voor de picknick meebrengt en dan is er altijd genoeg. Je kunt denken aan lekkere hapjes\, broodjes of een zoet bakseltje (gerechtjes waar je geen bestek voor nodig hebt). Met al die hapjes\, broodjes en andere inbreng maken we een mooi buffet. Het gaat daarbij niet zozeer om het eten op zich\, maar om integratie en saamhorigheid. Een belangrijk onderdeel is dat mensen die vanuit het buitenland hier zijn komen wonen\, vluchtelingen\, maar ook gewone migranten\, iets van hun eigen cultuur laten zien en andersom: Kortom\, dat we samen aan tafel zitten. De organisatie zorgt hierbij voor soep\, koffie en thee.
URL:https://nieuw.vries.nu/agendapunt/80-jaar-vrijheid-dorpsbrunch/
LOCATION:Dorpskerk en Brink
CATEGORIES:eten en drinken,Gedenken
END:VEVENT
BEGIN:VEVENT
DTSTART;TZID=Europe/Amsterdam:20250412T133000
DTEND;TZID=Europe/Amsterdam:20250412T153000
DTSTAMP:20260421T180854
CREATED:20250225T130259Z
LAST-MODIFIED:20250407T111845Z
UID:113588-1744464600-1744471800@nieuw.vries.nu
SUMMARY:Palmpasen optocht
DESCRIPTION:Voor meer informatie klik op deze regel!
URL:https://nieuw.vries.nu/agendapunt/palmpasen-optocht/
LOCATION:Bonifatiuskerk (dorpskerk)
CATEGORIES:Gedenken,Kinderen,Wandelen
END:VEVENT
BEGIN:VEVENT
DTSTART;TZID=Europe/Amsterdam:20250412T120000
DTEND;TZID=Europe/Amsterdam:20250412T130000
DTSTAMP:20260421T180854
CREATED:20250225T130627Z
LAST-MODIFIED:20250408T111133Z
UID:113590-1744459200-1744462800@nieuw.vries.nu
SUMMARY:80 jaar Vrijheid\, De Vrouwenmars 1945
DESCRIPTION:De Vrouwenmars 1945 https://www.vrouwenmars1945.nl/ herdenkt 116 vrouwelijke politieke gevangenen die in april 1945 vanuit Kamp Westerbork op mars werden gestuurd. Deze vrouwen\, variërend in leeftijd van 17 tot 63 jaar\, waren gearresteerd vanwege verzetsactiviteiten. Ze liepen onder bewaking van Westerbork naar Grijpskerk\, waar ze op 14 april 1945 werden vrijgelaten. Op 12 april passeert de wandeling ter herinnering aan deze tocht Vries en wordt om 12.00 uur een van de vijf kunstwerken ter herinnering aan deze tocht onthuld (op de Brink\, het ontmoetingshuis).
URL:https://nieuw.vries.nu/agendapunt/80-jaar-vrijheid-diverse-activiteiten/
LOCATION:Het Ontmoetingshuis\, Oude Rijksweg 2\, Vries
CATEGORIES:Gedenken
END:VEVENT
BEGIN:VEVENT
DTSTART;TZID=Europe/Amsterdam:20250412T110000
DTEND;TZID=Europe/Amsterdam:20250412T173000
DTSTAMP:20260421T180854
CREATED:20250408T100743Z
LAST-MODIFIED:20250408T100743Z
UID:114366-1744455600-1744479000@nieuw.vries.nu
SUMMARY:80 jaar Vrijheid\, Bevrijdingsmarathon
DESCRIPTION:Uitgangspunt was dat we hiervoor met muziekgroepen uit eigen gemeente (Tynaarlo) werken. Daarom hebben we alle muziekverenigingen in de hele gemeente Tynaarlo uitgenodigd. Inmiddels zijn er 19 aanmeldingen uit de vele genres die de muziek ons biedt. We beginnen om 11.00 uur en gaan door tot 17.30 uur. We sluiten het festival af met het gezamenlijk zingen van Alle Menschen werden Bruder\, het Europees Volkslied. Iedereen die wil meezingen is daartoe van harte uitgenodigd.
URL:https://nieuw.vries.nu/agendapunt/80-jaar-vrijheid-bevrijdingsmarathon/
LOCATION:Bonifatiuskerk en Café Onder de Linden
CATEGORIES:Concerten,Gedenken,Volksvermaken Vries
END:VEVENT
BEGIN:VEVENT
DTSTART;TZID=Europe/Amsterdam:20250412T080000
DTEND;TZID=Europe/Amsterdam:20250413T170000
DTSTAMP:20260421T180854
CREATED:20250408T100254Z
LAST-MODIFIED:20250408T100319Z
UID:114364-1744444800-1744563600@nieuw.vries.nu
SUMMARY:80 jaar Vrijheid\, Expositie Bonifatiuskerk
DESCRIPTION:Expositie met herinneringen aan WO II en latere oorlogen. Het gaat om de verhalen van mensen die oorlog en bevrijding hebben meegemaakt in Vries\, over wat er in oorlogstijd gebeurd is\, inclusief het NSB-verleden\, maar ook om verhalen van na de oorlog: hoe we de bevrijding hebben gevierd etc. Ook de verhalen van nieuwkomers hebben we een plaatsje gegeven in deze expositie.
URL:https://nieuw.vries.nu/agendapunt/80-jaar-vrijheid-expositie-bonifatiuskerk/
LOCATION:Bonifatiuskerk (dorpskerk)
CATEGORIES:Expositie,Gedenken
END:VEVENT
END:VCALENDAR