BEGIN:VCALENDAR
VERSION:2.0
PRODID:-//Vries.nu - ECPv6.15.20//NONSGML v1.0//EN
CALSCALE:GREGORIAN
METHOD:PUBLISH
X-WR-CALNAME:Vries.nu
X-ORIGINAL-URL:https://nieuw.vries.nu
X-WR-CALDESC:Evenementen voor Vries.nu
REFRESH-INTERVAL;VALUE=DURATION:PT1H
X-Robots-Tag:noindex
X-PUBLISHED-TTL:PT1H
BEGIN:VTIMEZONE
TZID:Europe/Amsterdam
BEGIN:DAYLIGHT
TZOFFSETFROM:+0100
TZOFFSETTO:+0200
TZNAME:CEST
DTSTART:20240331T010000
END:DAYLIGHT
BEGIN:STANDARD
TZOFFSETFROM:+0200
TZOFFSETTO:+0100
TZNAME:CET
DTSTART:20241027T010000
END:STANDARD
BEGIN:DAYLIGHT
TZOFFSETFROM:+0100
TZOFFSETTO:+0200
TZNAME:CEST
DTSTART:20250330T010000
END:DAYLIGHT
BEGIN:STANDARD
TZOFFSETFROM:+0200
TZOFFSETTO:+0100
TZNAME:CET
DTSTART:20251026T010000
END:STANDARD
BEGIN:DAYLIGHT
TZOFFSETFROM:+0100
TZOFFSETTO:+0200
TZNAME:CEST
DTSTART:20260329T010000
END:DAYLIGHT
BEGIN:STANDARD
TZOFFSETFROM:+0200
TZOFFSETTO:+0100
TZNAME:CET
DTSTART:20261025T010000
END:STANDARD
END:VTIMEZONE
BEGIN:VEVENT
DTSTART;TZID=Europe/Amsterdam:20251014T200000
DTEND;TZID=Europe/Amsterdam:20251014T220000
DTSTAMP:20260421T180956
CREATED:20250429T093820Z
LAST-MODIFIED:20250804T145942Z
UID:114950-1760472000-1760479200@nieuw.vries.nu
SUMMARY:Lezing over Dassen door Aaldrik Pot\, IVN Vries
DESCRIPTION:Dassen wonen en leven ook in onze omgeving. In groepen bouwen ze hun verblijven in burchten\, onder de grond. Hoog tijd om kennis met ze te maken. \nDaarvoor komt bij ons Aaldrik Pot\, één van de coördinatoren van de Dassenwerkgroep Drenthe.
URL:https://nieuw.vries.nu/agendapunt/lezing-over-dassen-door-aaldrik-pot-ivn-vries/
LOCATION:Dorpshuis De Pan\, Nieuwe Rijksweg 4\, Vries
CATEGORIES:Flora & Fauna,IVN,Lezing
END:VEVENT
END:VCALENDAR