BEGIN:VCALENDAR
VERSION:2.0
PRODID:-//Vries.nu - ECPv6.15.20//NONSGML v1.0//EN
CALSCALE:GREGORIAN
METHOD:PUBLISH
X-ORIGINAL-URL:https://nieuw.vries.nu
X-WR-CALDESC:Evenementen voor Vries.nu
REFRESH-INTERVAL;VALUE=DURATION:PT1H
X-Robots-Tag:noindex
X-PUBLISHED-TTL:PT1H
BEGIN:VTIMEZONE
TZID:Europe/Amsterdam
BEGIN:DAYLIGHT
TZOFFSETFROM:+0100
TZOFFSETTO:+0200
TZNAME:CEST
DTSTART:20240331T010000
END:DAYLIGHT
BEGIN:STANDARD
TZOFFSETFROM:+0200
TZOFFSETTO:+0100
TZNAME:CET
DTSTART:20241027T010000
END:STANDARD
BEGIN:DAYLIGHT
TZOFFSETFROM:+0100
TZOFFSETTO:+0200
TZNAME:CEST
DTSTART:20250330T010000
END:DAYLIGHT
BEGIN:STANDARD
TZOFFSETFROM:+0200
TZOFFSETTO:+0100
TZNAME:CET
DTSTART:20251026T010000
END:STANDARD
BEGIN:DAYLIGHT
TZOFFSETFROM:+0100
TZOFFSETTO:+0200
TZNAME:CEST
DTSTART:20260329T010000
END:DAYLIGHT
BEGIN:STANDARD
TZOFFSETFROM:+0200
TZOFFSETTO:+0100
TZNAME:CET
DTSTART:20261025T010000
END:STANDARD
END:VTIMEZONE
BEGIN:VEVENT
DTSTART;TZID=Europe/Amsterdam:20250605T193000
DTEND;TZID=Europe/Amsterdam:20250605T203000
DTSTAMP:20260421T190251
CREATED:20250526T093919Z
LAST-MODIFIED:20250526T093919Z
UID:115957-1749151800-1749155400@nieuw.vries.nu
SUMMARY:De film première van de jonge mantelzorgers film
DESCRIPTION:Zie bericht!
URL:https://nieuw.vries.nu/agendapunt/de-film-premiere-van-de-jonge-mantelzorgers-film/
LOCATION:Grand Café Onder de Linden\, Brink 4\, Vries
CATEGORIES:Buurtparticipatie,Film,Lezing
END:VEVENT
BEGIN:VEVENT
DTSTART;TZID=Europe/Amsterdam:20250323T150000
DTEND;TZID=Europe/Amsterdam:20250323T170000
DTSTAMP:20260421T190251
CREATED:20250220T180922Z
LAST-MODIFIED:20250220T180922Z
UID:113547-1742742000-1742749200@nieuw.vries.nu
SUMMARY:Filmfabriek Bunne; The Zone of Interest
DESCRIPTION:Zie ook de aankondiging op Vries.nu
URL:https://nieuw.vries.nu/agendapunt/filmfabriek-bunne-the-zone-of-interest/
LOCATION:De Melkfabriek\, Bunne
CATEGORIES:De Melkfabriek Bunne,Film
END:VEVENT
END:VCALENDAR