BEGIN:VCALENDAR
VERSION:2.0
PRODID:-//Vries.nu - ECPv6.15.20//NONSGML v1.0//EN
CALSCALE:GREGORIAN
METHOD:PUBLISH
X-WR-CALNAME:Vries.nu
X-ORIGINAL-URL:https://nieuw.vries.nu
X-WR-CALDESC:Evenementen voor Vries.nu
REFRESH-INTERVAL;VALUE=DURATION:PT1H
X-Robots-Tag:noindex
X-PUBLISHED-TTL:PT1H
BEGIN:VTIMEZONE
TZID:Europe/Amsterdam
BEGIN:DAYLIGHT
TZOFFSETFROM:+0100
TZOFFSETTO:+0200
TZNAME:CEST
DTSTART:20240331T010000
END:DAYLIGHT
BEGIN:STANDARD
TZOFFSETFROM:+0200
TZOFFSETTO:+0100
TZNAME:CET
DTSTART:20241027T010000
END:STANDARD
BEGIN:DAYLIGHT
TZOFFSETFROM:+0100
TZOFFSETTO:+0200
TZNAME:CEST
DTSTART:20250330T010000
END:DAYLIGHT
BEGIN:STANDARD
TZOFFSETFROM:+0200
TZOFFSETTO:+0100
TZNAME:CET
DTSTART:20251026T010000
END:STANDARD
BEGIN:DAYLIGHT
TZOFFSETFROM:+0100
TZOFFSETTO:+0200
TZNAME:CEST
DTSTART:20260329T010000
END:DAYLIGHT
BEGIN:STANDARD
TZOFFSETFROM:+0200
TZOFFSETTO:+0100
TZNAME:CET
DTSTART:20261025T010000
END:STANDARD
END:VTIMEZONE
BEGIN:VEVENT
DTSTART;TZID=Europe/Amsterdam:20250614T130000
DTEND;TZID=Europe/Amsterdam:20250614T160000
DTSTAMP:20260421T180847
CREATED:20250602T150019Z
LAST-MODIFIED:20250602T150213Z
UID:116057-1749906000-1749916800@nieuw.vries.nu
SUMMARY:Wol & (ver)Wonder
DESCRIPTION:Zie bericht!
URL:https://nieuw.vries.nu/agendapunt/wol-verwonder/
LOCATION:Donderboerkamp\, Norgerweg 219\, Donderen
CATEGORIES:Excursie,Expositie,Workshop
END:VEVENT
BEGIN:VEVENT
DTSTART;TZID=Europe/Amsterdam:20250511T120000
DTEND;TZID=Europe/Amsterdam:20250511T170000
DTSTAMP:20260421T180847
CREATED:20250416T085948Z
LAST-MODIFIED:20250416T085948Z
UID:114710-1746964800-1746982800@nieuw.vries.nu
SUMMARY:Open Atelierroute Noordenveld van Verkuno
DESCRIPTION:
URL:https://nieuw.vries.nu/agendapunt/open-atelierroute-noordenveld-van-verkuno-2/
CATEGORIES:Expositie,Open dag
END:VEVENT
BEGIN:VEVENT
DTSTART;TZID=Europe/Amsterdam:20250510T120000
DTEND;TZID=Europe/Amsterdam:20250510T170000
DTSTAMP:20260421T180847
CREATED:20250416T085811Z
LAST-MODIFIED:20250416T090527Z
UID:114706-1746878400-1746896400@nieuw.vries.nu
SUMMARY:Open Atelierroute Noordenveld van Verkuno
DESCRIPTION:
URL:https://nieuw.vries.nu/agendapunt/open-atelierroute-noordenveld-van-verkuno/
CATEGORIES:Expositie,Open dag
END:VEVENT
BEGIN:VEVENT
DTSTART;TZID=Europe/Amsterdam:20250412T080000
DTEND;TZID=Europe/Amsterdam:20250413T170000
DTSTAMP:20260421T180847
CREATED:20250408T100254Z
LAST-MODIFIED:20250408T100319Z
UID:114364-1744444800-1744563600@nieuw.vries.nu
SUMMARY:80 jaar Vrijheid\, Expositie Bonifatiuskerk
DESCRIPTION:Expositie met herinneringen aan WO II en latere oorlogen. Het gaat om de verhalen van mensen die oorlog en bevrijding hebben meegemaakt in Vries\, over wat er in oorlogstijd gebeurd is\, inclusief het NSB-verleden\, maar ook om verhalen van na de oorlog: hoe we de bevrijding hebben gevierd etc. Ook de verhalen van nieuwkomers hebben we een plaatsje gegeven in deze expositie.
URL:https://nieuw.vries.nu/agendapunt/80-jaar-vrijheid-expositie-bonifatiuskerk/
LOCATION:Bonifatiuskerk (dorpskerk)
CATEGORIES:Expositie,Gedenken
END:VEVENT
END:VCALENDAR