BEGIN:VCALENDAR
VERSION:2.0
PRODID:-//Vries.nu - ECPv6.15.20//NONSGML v1.0//EN
CALSCALE:GREGORIAN
METHOD:PUBLISH
X-WR-CALNAME:Vries.nu
X-ORIGINAL-URL:https://nieuw.vries.nu
X-WR-CALDESC:Evenementen voor Vries.nu
REFRESH-INTERVAL;VALUE=DURATION:PT1H
X-Robots-Tag:noindex
X-PUBLISHED-TTL:PT1H
BEGIN:VTIMEZONE
TZID:Europe/Amsterdam
BEGIN:DAYLIGHT
TZOFFSETFROM:+0100
TZOFFSETTO:+0200
TZNAME:CEST
DTSTART:20240331T010000
END:DAYLIGHT
BEGIN:STANDARD
TZOFFSETFROM:+0200
TZOFFSETTO:+0100
TZNAME:CET
DTSTART:20241027T010000
END:STANDARD
BEGIN:DAYLIGHT
TZOFFSETFROM:+0100
TZOFFSETTO:+0200
TZNAME:CEST
DTSTART:20250330T010000
END:DAYLIGHT
BEGIN:STANDARD
TZOFFSETFROM:+0200
TZOFFSETTO:+0100
TZNAME:CET
DTSTART:20251026T010000
END:STANDARD
BEGIN:DAYLIGHT
TZOFFSETFROM:+0100
TZOFFSETTO:+0200
TZNAME:CEST
DTSTART:20260329T010000
END:DAYLIGHT
BEGIN:STANDARD
TZOFFSETFROM:+0200
TZOFFSETTO:+0100
TZNAME:CET
DTSTART:20261025T010000
END:STANDARD
END:VTIMEZONE
BEGIN:VEVENT
DTSTART;TZID=Europe/Amsterdam:20251023T140000
DTEND;TZID=Europe/Amsterdam:20251023T160000
DTSTAMP:20260421T180854
CREATED:20251015T124433Z
LAST-MODIFIED:20251015T124433Z
UID:117805-1761228000-1761235200@nieuw.vries.nu
SUMMARY:Paddenstoelen zoeken en onderzoeken
DESCRIPTION:zie ook het bericht
URL:https://nieuw.vries.nu/agendapunt/paddenstoelen-zoeken-en-onderzoeken/
LOCATION:De Natuurplaats Noordsche Veld\, Donderseweg 22\, Norg\, 9331 TB
CATEGORIES:Excursie,Kinderen
END:VEVENT
BEGIN:VEVENT
DTSTART;TZID=Europe/Amsterdam:20250823T180000
DTEND;TZID=Europe/Amsterdam:20250823T223000
DTSTAMP:20260421T180854
CREATED:20250809T181117Z
LAST-MODIFIED:20250809T181700Z
UID:116781-1755972000-1755988200@nieuw.vries.nu
SUMMARY:Zomeravond Reeën excursie Noordsche Veld
DESCRIPTION:Excursie is inclusief diner  !\nZie ook het bericht
URL:https://nieuw.vries.nu/agendapunt/https-www-vries-nu-cultuur-zomeravond-reeen-excursie-noordsche-veld/
LOCATION:De Natuurplaats Noordsche Veld\, Donderseweg 22\, Norg\, 9331 TB
CATEGORIES:Excursie
END:VEVENT
BEGIN:VEVENT
DTSTART;TZID=Europe/Amsterdam:20250817T120000
DTEND;TZID=Europe/Amsterdam:20250817T150000
DTSTAMP:20260421T180854
CREATED:20250812T104938Z
LAST-MODIFIED:20250812T172328Z
UID:116828-1755432000-1755442800@nieuw.vries.nu
SUMMARY:Wandelen op de Dag van het Hunebed
DESCRIPTION:Zie voor alle details het bericht op Vries.nu.
URL:https://nieuw.vries.nu/agendapunt/wandelen-op-de-dag-van-het-hunebed/
LOCATION:Tynaarlo\, Hunebed D6
CATEGORIES:Excursie,Wandelen
END:VEVENT
BEGIN:VEVENT
DTSTART;TZID=Europe/Amsterdam:20250816T100000
DTEND;TZID=Europe/Amsterdam:20250816T130000
DTSTAMP:20260421T180854
CREATED:20250809T175643Z
LAST-MODIFIED:20250809T175643Z
UID:116773-1755338400-1755349200@nieuw.vries.nu
SUMMARY:Ontdek de bijzondere natuur van de Drentsche Aa
DESCRIPTION:Zie ook het bericht
URL:https://nieuw.vries.nu/agendapunt/ontdek-de-bijzondere-natuur-van-de-drentsche-aa/
LOCATION:Locatie werkschuur Staatsbosbeheer\, Molensteeg in Oudemolen
CATEGORIES:Excursie
END:VEVENT
BEGIN:VEVENT
DTSTART;TZID=Europe/Amsterdam:20250614T130000
DTEND;TZID=Europe/Amsterdam:20250614T160000
DTSTAMP:20260421T180854
CREATED:20250602T150019Z
LAST-MODIFIED:20250602T150213Z
UID:116057-1749906000-1749916800@nieuw.vries.nu
SUMMARY:Wol & (ver)Wonder
DESCRIPTION:Zie bericht!
URL:https://nieuw.vries.nu/agendapunt/wol-verwonder/
LOCATION:Donderboerkamp\, Norgerweg 219\, Donderen
CATEGORIES:Excursie,Expositie,Workshop
END:VEVENT
BEGIN:VEVENT
DTSTART;TZID=Europe/Amsterdam:20250614T110000
DTEND;TZID=Europe/Amsterdam:20250614T160000
DTSTAMP:20260421T180854
CREATED:20250608T162851Z
LAST-MODIFIED:20250608T162851Z
UID:116184-1749898800-1749916800@nieuw.vries.nu
SUMMARY:Nationale Archeologiedag bij De Natuurplaats Noordsche Veld
DESCRIPTION:Zie ook de aankondiging op Vries.nu
URL:https://nieuw.vries.nu/agendapunt/nationale-archeologiedag-bij-de-natuurplaats-noordsche-veld/
LOCATION:De Natuurplaats Noordsche Veld\, Donderseweg 22\, Norg\, 9331 TB
CATEGORIES:Excursie,Natuurplaats Het Noordsche Veld
END:VEVENT
BEGIN:VEVENT
DTSTART;TZID=Europe/Amsterdam:20250601T100000
DTEND;TZID=Europe/Amsterdam:20250601T123000
DTSTAMP:20260421T180854
CREATED:20250520T131756Z
LAST-MODIFIED:20250520T131756Z
UID:115891-1748772000-1748781000@nieuw.vries.nu
SUMMARY:Bloeiende hooilanden langs het Anlooërdiepje
DESCRIPTION:Zie ook het bericht op Vries.nu
URL:https://nieuw.vries.nu/agendapunt/bloeiende-hooilanden-langs-het-anlooerdiepje/
LOCATION:NP Toegangspoort Anloo aan Lunsenhof in Anloo
CATEGORIES:Excursie
END:VEVENT
BEGIN:VEVENT
DTSTART;TZID=Europe/Amsterdam:20250524T140000
DTEND;TZID=Europe/Amsterdam:20250524T170000
DTSTAMP:20260421T180854
CREATED:20250429T122154Z
LAST-MODIFIED:20250429T122154Z
UID:114967-1748095200-1748106000@nieuw.vries.nu
SUMMARY:Wijnproeverij bij slijterij Roemer
DESCRIPTION:
URL:https://nieuw.vries.nu/agendapunt/wijnproeverij-bij-slijterij-roemer/
LOCATION:Slijterij De Roemer
CATEGORIES:eten en drinken,Excursie
END:VEVENT
BEGIN:VEVENT
DTSTART;TZID=Europe/Amsterdam:20250523T190000
DTEND;TZID=Europe/Amsterdam:20250523T200000
DTSTAMP:20260421T180854
CREATED:20250328T103855Z
LAST-MODIFIED:20250328T103855Z
UID:114166-1748026800-1748030400@nieuw.vries.nu
SUMMARY:Tocht door de geschiedenis van Vries
DESCRIPTION:Zie bericht!
URL:https://nieuw.vries.nu/agendapunt/tocht-door-de-geschiedenis-van-vries/
LOCATION:Het Ontmoetingshuis\, Oude Rijksweg 2\, Vries
CATEGORIES:Excursie,Wandelen
END:VEVENT
BEGIN:VEVENT
DTSTART;TZID=Europe/Amsterdam:20250419T100000
DTEND;TZID=Europe/Amsterdam:20250419T130000
DTSTAMP:20260421T180854
CREATED:20250407T165557Z
LAST-MODIFIED:20250410T081429Z
UID:114359-1745056800-1745067600@nieuw.vries.nu
SUMMARY:Dwaal mee over het stille Balloërveld
DESCRIPTION:Voor meer informatie klik op deze regel!
URL:https://nieuw.vries.nu/agendapunt/dwaal-mee-over-het-stille-balloerveld/
LOCATION:Balloërveld\, schaapskooi\, Crabbeweg 2\, Balloo
CATEGORIES:Excursie,Wandelen
END:VEVENT
BEGIN:VEVENT
DTSTART;TZID=Europe/Amsterdam:20250308T090000
DTEND;TZID=Europe/Amsterdam:20250308T150000
DTSTAMP:20260421T180854
CREATED:20250301T160446Z
LAST-MODIFIED:20250301T160446Z
UID:113739-1741424400-1741446000@nieuw.vries.nu
SUMMARY:Open dag bij de brandweer van Vries
DESCRIPTION:Zie bericht!
URL:https://nieuw.vries.nu/agendapunt/open-dag-bij-de-brandweer-van-vries/
LOCATION:Brandweer kazerne  Vries\, Westerstraat 26\, Vries
CATEGORIES:Excursie,Open dag
END:VEVENT
END:VCALENDAR