BEGIN:VCALENDAR
VERSION:2.0
PRODID:-//Vries.nu - ECPv6.15.20//NONSGML v1.0//EN
CALSCALE:GREGORIAN
METHOD:PUBLISH
X-ORIGINAL-URL:https://nieuw.vries.nu
X-WR-CALDESC:Evenementen voor Vries.nu
REFRESH-INTERVAL;VALUE=DURATION:PT1H
X-Robots-Tag:noindex
X-PUBLISHED-TTL:PT1H
BEGIN:VTIMEZONE
TZID:Europe/Amsterdam
BEGIN:DAYLIGHT
TZOFFSETFROM:+0100
TZOFFSETTO:+0200
TZNAME:CEST
DTSTART:20240331T010000
END:DAYLIGHT
BEGIN:STANDARD
TZOFFSETFROM:+0200
TZOFFSETTO:+0100
TZNAME:CET
DTSTART:20241027T010000
END:STANDARD
BEGIN:DAYLIGHT
TZOFFSETFROM:+0100
TZOFFSETTO:+0200
TZNAME:CEST
DTSTART:20250330T010000
END:DAYLIGHT
BEGIN:STANDARD
TZOFFSETFROM:+0200
TZOFFSETTO:+0100
TZNAME:CET
DTSTART:20251026T010000
END:STANDARD
BEGIN:DAYLIGHT
TZOFFSETFROM:+0100
TZOFFSETTO:+0200
TZNAME:CEST
DTSTART:20260329T010000
END:DAYLIGHT
BEGIN:STANDARD
TZOFFSETFROM:+0200
TZOFFSETTO:+0100
TZNAME:CET
DTSTART:20261025T010000
END:STANDARD
END:VTIMEZONE
BEGIN:VEVENT
DTSTART;TZID=Europe/Amsterdam:20251123T100000
DTEND;TZID=Europe/Amsterdam:20251123T160000
DTSTAMP:20260421T181410
CREATED:20251110T095812Z
LAST-MODIFIED:20251110T095812Z
UID:118230-1763892000-1763913600@nieuw.vries.nu
SUMMARY:Beurs Creatief Vries in Dorpshuis de Pan
DESCRIPTION:Zie bericht op vries.nu!
URL:https://nieuw.vries.nu/agendapunt/beurs-creatief-vries-in-dorpshuis-de-pan/
LOCATION:Dorpshuis De Pan\, Nieuwe Rijksweg 4\, Vries
CATEGORIES:Brocante,eten en drinken,Fancy Fair,Markt,Workshop
END:VEVENT
BEGIN:VEVENT
DTSTART;TZID=Europe/Amsterdam:20251122T110000
DTEND;TZID=Europe/Amsterdam:20251122T170000
DTSTAMP:20260421T181410
CREATED:20251108T143715Z
LAST-MODIFIED:20251108T143715Z
UID:118216-1763809200-1763830800@nieuw.vries.nu
SUMMARY:Wintersfeerdagen in Het Koetshuis
DESCRIPTION:Zie het bericht op Vries.nu
URL:https://nieuw.vries.nu/agendapunt/wintersfeerdagen-in-het-koetshuis-2/
LOCATION:Het Koetshuis\, Schultestraat 4\, Vries\, 9481 BC
CATEGORIES:Antiek,Brocante
END:VEVENT
BEGIN:VEVENT
DTSTART;TZID=Europe/Amsterdam:20251121T110000
DTEND;TZID=Europe/Amsterdam:20251121T170000
DTSTAMP:20260421T181410
CREATED:20251108T143345Z
LAST-MODIFIED:20251108T143345Z
UID:118212-1763722800-1763744400@nieuw.vries.nu
SUMMARY:Wintersfeerdagen in Het Koetshuis
DESCRIPTION:
URL:https://nieuw.vries.nu/agendapunt/wintersfeerdagen-in-het-koetshuis/
LOCATION:Het Koetshuis\, Schultestraat 4\, Vries\, 9481 BC
CATEGORIES:Antiek,Brocante,Markt
END:VEVENT
END:VCALENDAR