BEGIN:VCALENDAR
VERSION:2.0
PRODID:-//Vries.nu - ECPv6.15.20//NONSGML v1.0//EN
CALSCALE:GREGORIAN
METHOD:PUBLISH
X-WR-CALNAME:Vries.nu
X-ORIGINAL-URL:https://nieuw.vries.nu
X-WR-CALDESC:Evenementen voor Vries.nu
REFRESH-INTERVAL;VALUE=DURATION:PT1H
X-Robots-Tag:noindex
X-PUBLISHED-TTL:PT1H
BEGIN:VTIMEZONE
TZID:Europe/Amsterdam
BEGIN:DAYLIGHT
TZOFFSETFROM:+0100
TZOFFSETTO:+0200
TZNAME:CEST
DTSTART:20250330T010000
END:DAYLIGHT
BEGIN:STANDARD
TZOFFSETFROM:+0200
TZOFFSETTO:+0100
TZNAME:CET
DTSTART:20251026T010000
END:STANDARD
BEGIN:DAYLIGHT
TZOFFSETFROM:+0100
TZOFFSETTO:+0200
TZNAME:CEST
DTSTART:20260329T010000
END:DAYLIGHT
BEGIN:STANDARD
TZOFFSETFROM:+0200
TZOFFSETTO:+0100
TZNAME:CET
DTSTART:20261025T010000
END:STANDARD
BEGIN:DAYLIGHT
TZOFFSETFROM:+0100
TZOFFSETTO:+0200
TZNAME:CEST
DTSTART:20270328T010000
END:DAYLIGHT
BEGIN:STANDARD
TZOFFSETFROM:+0200
TZOFFSETTO:+0100
TZNAME:CET
DTSTART:20271031T010000
END:STANDARD
END:VTIMEZONE
BEGIN:VEVENT
DTSTART;TZID=Europe/Amsterdam:20260517T150000
DTEND;TZID=Europe/Amsterdam:20260517T164500
DTSTAMP:20260421T104413
CREATED:20250922T181433Z
LAST-MODIFIED:20250922T181433Z
UID:117404-1779030000-1779036300@nieuw.vries.nu
SUMMARY:Concert: Holland Baroque\, 'Het Wonder van Boxmeer'
DESCRIPTION:
URL:https://nieuw.vries.nu/agendapunt/concert-holland-baroque-het-wonder-van-boxmeer/
LOCATION:Bonifatiuskerk
CATEGORIES:Concerten
END:VEVENT
END:VCALENDAR